BEGIN:VCALENDAR
VERSION:2.0
PRODID:-//WinnaVegas - ECPv6.5.2//NONSGML v1.0//EN
CALSCALE:GREGORIAN
METHOD:PUBLISH
X-WR-CALNAME:WinnaVegas
X-ORIGINAL-URL:https://www.winnavegas.com
X-WR-CALDESC:Events for WinnaVegas
REFRESH-INTERVAL;VALUE=DURATION:PT1H
X-Robots-Tag:noindex
X-PUBLISHED-TTL:PT1H
BEGIN:VTIMEZONE
TZID:America/Chicago
BEGIN:DAYLIGHT
TZOFFSETFROM:-0600
TZOFFSETTO:-0500
TZNAME:CDT
DTSTART:20260308T080000
END:DAYLIGHT
BEGIN:STANDARD
TZOFFSETFROM:-0500
TZOFFSETTO:-0600
TZNAME:CST
DTSTART:20261101T070000
END:STANDARD
END:VTIMEZONE
BEGIN:VEVENT
DTSTART;TZID=America/Chicago:20260522T150000
DTEND;TZID=America/Chicago:20260522T230000
DTSTAMP:20260425T093139
CREATED:20260424T195102Z
LAST-MODIFIED:20260424T195102Z
UID:10006427-1779462000-1779490800@www.winnavegas.com
SUMMARY:Favorite Things
DESCRIPTION:Our Loss Is Your Gain! \nHere’s your chance to receive another one of the favorite gifts from the past year. \nEarn 25 same-day points and select the gifts of your choice! \nEarn up to 5 gifts! \nWhile Supplies Last. If inventory is depleted\, $10 Promo Play will be awarded.
URL:https://www.winnavegas.com/event/favorite-things/
LOCATION:WinnaVegas Casino\, 1500 330th Street\, Sloan\, IA\, 51055\, United States
CATEGORIES:Promotions
ATTACH;FMTTYPE=image/jpeg:https://www.winnavegas.com/wp-content/uploads/2026/04/May26FavoriteThings-PROMO.jpg
END:VEVENT
BEGIN:VEVENT
DTSTART;TZID=America/Chicago:20260522T170000
DTEND;TZID=America/Chicago:20260522T220000
DTSTAMP:20260425T093140
CREATED:20230620T140239Z
LAST-MODIFIED:20250725T205736Z
UID:10001996-1779469200-1779487200@www.winnavegas.com
SUMMARY:Double Payout
DESCRIPTION:
URL:https://www.winnavegas.com/event/double-payout-12/2026-05-22/
LOCATION:IA
CATEGORIES:BINGO
END:VEVENT
BEGIN:VEVENT
DTSTART;TZID=America/Chicago:20260522T190000
DTEND;TZID=America/Chicago:20260522T213000
DTSTAMP:20260425T093140
CREATED:20260302T210443Z
LAST-MODIFIED:20260302T210443Z
UID:10006271-1779476400-1779485400@www.winnavegas.com
SUMMARY:The Highwaymen LIVE
DESCRIPTION:Willie\, Waylon and Johnny Cash as… \nThe Highwaymen LIVE \nA Musical Tribute \nFriday\, May 22\, 2026 \nDoors 7pm; Show 8pm \nTickets are $10 each
URL:https://www.winnavegas.com/event/the-highwaymen-live/
LOCATION:WinnaVegas Casino\, 1500 330th Street\, Sloan\, IA\, 51055\, United States
CATEGORIES:Entertainment
ATTACH;FMTTYPE=image/jpeg:https://www.winnavegas.com/wp-content/uploads/2026/03/HighwaymenLive-PROMO.jpg
END:VEVENT
END:VCALENDAR