BEGIN:VCALENDAR
VERSION:2.0
PRODID:-//WinnaVegas - ECPv6.5.2//NONSGML v1.0//EN
CALSCALE:GREGORIAN
METHOD:PUBLISH
X-WR-CALNAME:WinnaVegas
X-ORIGINAL-URL:https://www.winnavegas.com
X-WR-CALDESC:Events for WinnaVegas
REFRESH-INTERVAL;VALUE=DURATION:PT1H
X-Robots-Tag:noindex
X-PUBLISHED-TTL:PT1H
BEGIN:VTIMEZONE
TZID:America/Chicago
BEGIN:DAYLIGHT
TZOFFSETFROM:-0600
TZOFFSETTO:-0500
TZNAME:CDT
DTSTART:20260308T080000
END:DAYLIGHT
BEGIN:STANDARD
TZOFFSETFROM:-0500
TZOFFSETTO:-0600
TZNAME:CST
DTSTART:20261101T070000
END:STANDARD
END:VTIMEZONE
BEGIN:VEVENT
DTSTART;TZID=America/Chicago:20260530T080000
DTEND;TZID=America/Chicago:20260530T120000
DTSTAMP:20260425T082311
CREATED:20260424T200114Z
LAST-MODIFIED:20260424T200114Z
UID:10006438-1780128000-1780142400@www.winnavegas.com
SUMMARY:5k Run & Walk
DESCRIPTION:$10 Registration Fee\, All Are Welcome \nRegistration Begins at 8am \nWhether you’re a runner or just in it for the fun\, join us to get active\, give back and enjoy the community vibe! \nNearly $5K in prizes to be given away in all age groups: Mens\, Womens\, Youth & Tiny Tots. \nFor more information call 712-428-7135 \nAll proceeds raised will benefit “Winnebago Tribe Cultural Events”
URL:https://www.winnavegas.com/event/5k-run-walk/
LOCATION:WinnaVegas Casino\, 1500 330th Street\, Sloan\, IA\, 51055\, United States
CATEGORIES:Promotions
ATTACH;FMTTYPE=image/jpeg:https://www.winnavegas.com/wp-content/uploads/2026/04/2026RunAndWalk-PROMO.jpg
END:VEVENT
BEGIN:VEVENT
DTSTART;TZID=America/Chicago:20260530T160000
DTEND;TZID=America/Chicago:20260530T230000
DTSTAMP:20260425T082311
CREATED:20260424T191558Z
LAST-MODIFIED:20260424T191745Z
UID:10006415-1780156800-1780182000@www.winnavegas.com
SUMMARY:$100\,000 Blooming Bucks Drawings
DESCRIPTION:WINN Your Share of over $100\,000 in CASH & PRIZES!\nSaturdays\, May 9th\, 16th and 23rd \n4pm to 11pm \nWinner is drawn every 15 minutes. \nPlayer selects a coupon worth 1X\, 2X and 3X the $200 Promo Play prize. Winner could receive $200\, $400 or $600 in Promo Play! \nEarn entries starting Sunday\, May 3rd through final drawing on Saturday\, May 30th. Every 10 points equals 1 drawing entry. \nPlayers may only win one cash prize and one Promo Play prize on this promo day. \nGrand Finale Saturday\nSaturday\, May 30th \n4pm to 11pm \nDrawings every 15 minutes from 4pm to 10:45pm. \nOne person wins a Cash or Promo Play prize. \nAt the top and bottom of the hour\, the prize is $500 CASH! Player selects a coupon worth 1X\, 2X or 3X the prize of $500 cash. Winner will receive $500\, $1\,000 or $1\,500 Cash. \nOn the quarter hours\, the prize is $200 Promo Play. Player selects a coupon worth 1X\, 2X or 3X the prize of $200 Promo Play! Winner will receive $200\, $400 or $600 Promo Play. \nPlayers may only win one cash prize and one Promo Play prize on this promo day. \nGrand Prize Drawing at 11pm\nOne winner drawn wins $5\,000 CASH! \nPlayer selects a coupon worth 2X\, 3X or 5X the prize. Winner will receive $10\,000\, $15\,000 or $25\,000 CASH! \nPlayers must be present to win. All players\, including players who won earlier on the promotion day\, are eligible for the 11pm drawing.
URL:https://www.winnavegas.com/event/100000-blooming-bucks-drawings/2026-05-30/
LOCATION:WinnaVegas Casino\, 1500 330th Street\, Sloan\, IA\, 51055\, United States
CATEGORIES:Promotions
ATTACH;FMTTYPE=image/jpeg:https://www.winnavegas.com/wp-content/uploads/2026/04/BloomingBucks26-PROMO.jpg
END:VEVENT
BEGIN:VEVENT
DTSTART;TZID=America/Chicago:20260530T170000
DTEND;TZID=America/Chicago:20260530T220000
DTSTAMP:20260425T082311
CREATED:20230620T140239Z
LAST-MODIFIED:20250725T205736Z
UID:10001999-1780160400-1780178400@www.winnavegas.com
SUMMARY:Double Payout
DESCRIPTION:
URL:https://www.winnavegas.com/event/double-payout-12/2026-05-30/
LOCATION:IA
CATEGORIES:BINGO
END:VEVENT
END:VCALENDAR