BEGIN:VCALENDAR
VERSION:2.0
PRODID:-//WinnaVegas - ECPv6.5.2//NONSGML v1.0//EN
CALSCALE:GREGORIAN
METHOD:PUBLISH
X-ORIGINAL-URL:https://www.winnavegas.com
X-WR-CALDESC:Events for WinnaVegas
REFRESH-INTERVAL;VALUE=DURATION:PT1H
X-Robots-Tag:noindex
X-PUBLISHED-TTL:PT1H
BEGIN:VTIMEZONE
TZID:America/Chicago
BEGIN:DAYLIGHT
TZOFFSETFROM:-0600
TZOFFSETTO:-0500
TZNAME:CDT
DTSTART:20240310T080000
END:DAYLIGHT
BEGIN:STANDARD
TZOFFSETFROM:-0500
TZOFFSETTO:-0600
TZNAME:CST
DTSTART:20241103T070000
END:STANDARD
END:VTIMEZONE
BEGIN:VEVENT
DTSTART;TZID=America/Chicago:20240801T170000
DTEND;TZID=America/Chicago:20240801T220000
DTSTAMP:20260421T075925
CREATED:20240322T154833Z
LAST-MODIFIED:20240322T154833Z
UID:10002867-1722531600-1722549600@www.winnavegas.com
SUMMARY:Mens Night
DESCRIPTION:
URL:https://www.winnavegas.com/event/mens-night/2024-08-01/
LOCATION:IA
CATEGORIES:BINGO
END:VEVENT
BEGIN:VEVENT
DTSTART;TZID=America/Chicago:20240802T170000
DTEND;TZID=America/Chicago:20240802T220000
DTSTAMP:20260421T075925
CREATED:20230620T140239Z
LAST-MODIFIED:20250725T205736Z
UID:10001809-1722618000-1722636000@www.winnavegas.com
SUMMARY:Double Payout
DESCRIPTION:
URL:https://www.winnavegas.com/event/double-payout-12/2024-08-02/
LOCATION:IA
CATEGORIES:BINGO
END:VEVENT
BEGIN:VEVENT
DTSTART;TZID=America/Chicago:20240804T170000
DTEND;TZID=America/Chicago:20240804T220000
DTSTAMP:20260421T075925
CREATED:20230620T140345Z
LAST-MODIFIED:20230620T140345Z
UID:10002255-1722790800-1722808800@www.winnavegas.com
SUMMARY:Side Pack Sunday
DESCRIPTION:
URL:https://www.winnavegas.com/event/side-pack-sunday-2/2024-08-04/
LOCATION:IA
CATEGORIES:BINGO
END:VEVENT
BEGIN:VEVENT
DTSTART;VALUE=DATE:20240805
DTEND;VALUE=DATE:20240806
DTSTAMP:20260421T075925
CREATED:20230620T140423Z
LAST-MODIFIED:20230620T140423Z
UID:10002478-1722816000-1722902399@www.winnavegas.com
SUMMARY:BINGO CLOSED
DESCRIPTION:
URL:https://www.winnavegas.com/event/bingo-closed-3/2024-08-05/
LOCATION:IA
CATEGORIES:BINGO
END:VEVENT
BEGIN:VEVENT
DTSTART;VALUE=DATE:20240806
DTEND;VALUE=DATE:20240807
DTSTAMP:20260421T075925
CREATED:20230620T140423Z
LAST-MODIFIED:20230620T140423Z
UID:10002479-1722902400-1722988799@www.winnavegas.com
SUMMARY:BINGO CLOSED
DESCRIPTION:
URL:https://www.winnavegas.com/event/bingo-closed-3/2024-08-06/
LOCATION:IA
CATEGORIES:BINGO
END:VEVENT
BEGIN:VEVENT
DTSTART;TZID=America/Chicago:20240807T170000
DTEND;TZID=America/Chicago:20240807T220000
DTSTAMP:20260421T075925
CREATED:20230620T135814Z
LAST-MODIFIED:20230620T140027Z
UID:10002093-1723050000-1723068000@www.winnavegas.com
SUMMARY:Half Price Night (On Paper 12-Packs Only)
DESCRIPTION:
URL:https://www.winnavegas.com/event/half-price-night-on-paper-12-packs-only/2024-08-07/
LOCATION:IA
CATEGORIES:BINGO
END:VEVENT
BEGIN:VEVENT
DTSTART;TZID=America/Chicago:20240808T170000
DTEND;TZID=America/Chicago:20240808T220000
DTSTAMP:20260421T075925
CREATED:20240322T154656Z
LAST-MODIFIED:20240322T155407Z
UID:10002019-1723136400-1723154400@www.winnavegas.com
SUMMARY:Ladies Night
DESCRIPTION:
URL:https://www.winnavegas.com/event/ladies-night-7/2024-08-08/
LOCATION:IA
CATEGORIES:BINGO
END:VEVENT
BEGIN:VEVENT
DTSTART;TZID=America/Chicago:20240809T170000
DTEND;TZID=America/Chicago:20240809T220000
DTSTAMP:20260421T075925
CREATED:20230620T140239Z
LAST-MODIFIED:20250725T205736Z
UID:10001810-1723222800-1723240800@www.winnavegas.com
SUMMARY:Double Payout
DESCRIPTION:
URL:https://www.winnavegas.com/event/double-payout-12/2024-08-09/
LOCATION:IA
CATEGORIES:BINGO
END:VEVENT
BEGIN:VEVENT
DTSTART;TZID=America/Chicago:20240810T170000
DTEND;TZID=America/Chicago:20240810T220000
DTSTAMP:20260421T075925
CREATED:20230620T140239Z
LAST-MODIFIED:20250725T205736Z
UID:10001811-1723309200-1723327200@www.winnavegas.com
SUMMARY:Double Payout
DESCRIPTION:
URL:https://www.winnavegas.com/event/double-payout-12/2024-08-10/
LOCATION:IA
CATEGORIES:BINGO
END:VEVENT
BEGIN:VEVENT
DTSTART;TZID=America/Chicago:20240811T170000
DTEND;TZID=America/Chicago:20240811T220000
DTSTAMP:20260421T075925
CREATED:20230620T140345Z
LAST-MODIFIED:20230620T140345Z
UID:10002256-1723395600-1723413600@www.winnavegas.com
SUMMARY:Side Pack Sunday
DESCRIPTION:
URL:https://www.winnavegas.com/event/side-pack-sunday-2/2024-08-11/
LOCATION:IA
CATEGORIES:BINGO
END:VEVENT
BEGIN:VEVENT
DTSTART;VALUE=DATE:20240812
DTEND;VALUE=DATE:20240813
DTSTAMP:20260421T075925
CREATED:20230620T140423Z
LAST-MODIFIED:20230620T140423Z
UID:10002480-1723420800-1723507199@www.winnavegas.com
SUMMARY:BINGO CLOSED
DESCRIPTION:
URL:https://www.winnavegas.com/event/bingo-closed-3/2024-08-12/
LOCATION:IA
CATEGORIES:BINGO
END:VEVENT
BEGIN:VEVENT
DTSTART;VALUE=DATE:20240813
DTEND;VALUE=DATE:20240814
DTSTAMP:20260421T075925
CREATED:20230620T140423Z
LAST-MODIFIED:20230620T140423Z
UID:10002481-1723507200-1723593599@www.winnavegas.com
SUMMARY:BINGO CLOSED
DESCRIPTION:
URL:https://www.winnavegas.com/event/bingo-closed-3/2024-08-13/
LOCATION:IA
CATEGORIES:BINGO
END:VEVENT
BEGIN:VEVENT
DTSTART;TZID=America/Chicago:20240814T170000
DTEND;TZID=America/Chicago:20240814T220000
DTSTAMP:20260421T075925
CREATED:20230620T135814Z
LAST-MODIFIED:20230620T140027Z
UID:10002094-1723654800-1723672800@www.winnavegas.com
SUMMARY:Half Price Night (On Paper 12-Packs Only)
DESCRIPTION:
URL:https://www.winnavegas.com/event/half-price-night-on-paper-12-packs-only/2024-08-14/
LOCATION:IA
CATEGORIES:BINGO
END:VEVENT
BEGIN:VEVENT
DTSTART;TZID=America/Chicago:20240815T170000
DTEND;TZID=America/Chicago:20240815T220000
DTSTAMP:20260421T075925
CREATED:20240322T154833Z
LAST-MODIFIED:20240322T154833Z
UID:10002868-1723741200-1723759200@www.winnavegas.com
SUMMARY:Mens Night
DESCRIPTION:
URL:https://www.winnavegas.com/event/mens-night/2024-08-15/
LOCATION:IA
CATEGORIES:BINGO
END:VEVENT
BEGIN:VEVENT
DTSTART;TZID=America/Chicago:20240816T170000
DTEND;TZID=America/Chicago:20240816T220000
DTSTAMP:20260421T075925
CREATED:20230620T140239Z
LAST-MODIFIED:20250725T205736Z
UID:10001812-1723827600-1723845600@www.winnavegas.com
SUMMARY:Double Payout
DESCRIPTION:
URL:https://www.winnavegas.com/event/double-payout-12/2024-08-16/
LOCATION:IA
CATEGORIES:BINGO
END:VEVENT
BEGIN:VEVENT
DTSTART;TZID=America/Chicago:20240817T170000
DTEND;TZID=America/Chicago:20240817T220000
DTSTAMP:20260421T075925
CREATED:20230620T140239Z
LAST-MODIFIED:20250725T205736Z
UID:10001813-1723914000-1723932000@www.winnavegas.com
SUMMARY:Double Payout
DESCRIPTION:
URL:https://www.winnavegas.com/event/double-payout-12/2024-08-17/
LOCATION:IA
CATEGORIES:BINGO
END:VEVENT
BEGIN:VEVENT
DTSTART;TZID=America/Chicago:20240818T170000
DTEND;TZID=America/Chicago:20240818T220000
DTSTAMP:20260421T075925
CREATED:20230620T140345Z
LAST-MODIFIED:20230620T140345Z
UID:10002257-1724000400-1724018400@www.winnavegas.com
SUMMARY:Side Pack Sunday
DESCRIPTION:
URL:https://www.winnavegas.com/event/side-pack-sunday-2/2024-08-18/
LOCATION:IA
CATEGORIES:BINGO
END:VEVENT
BEGIN:VEVENT
DTSTART;VALUE=DATE:20240819
DTEND;VALUE=DATE:20240820
DTSTAMP:20260421T075925
CREATED:20230620T140423Z
LAST-MODIFIED:20230620T140423Z
UID:10002482-1724025600-1724111999@www.winnavegas.com
SUMMARY:BINGO CLOSED
DESCRIPTION:
URL:https://www.winnavegas.com/event/bingo-closed-3/2024-08-19/
LOCATION:IA
CATEGORIES:BINGO
END:VEVENT
BEGIN:VEVENT
DTSTART;VALUE=DATE:20240820
DTEND;VALUE=DATE:20240821
DTSTAMP:20260421T075925
CREATED:20230620T140423Z
LAST-MODIFIED:20230620T140423Z
UID:10002483-1724112000-1724198399@www.winnavegas.com
SUMMARY:BINGO CLOSED
DESCRIPTION:
URL:https://www.winnavegas.com/event/bingo-closed-3/2024-08-20/
LOCATION:IA
CATEGORIES:BINGO
END:VEVENT
BEGIN:VEVENT
DTSTART;TZID=America/Chicago:20240821T170000
DTEND;TZID=America/Chicago:20240821T220000
DTSTAMP:20260421T075925
CREATED:20230620T135814Z
LAST-MODIFIED:20230620T140027Z
UID:10002095-1724259600-1724277600@www.winnavegas.com
SUMMARY:Half Price Night (On Paper 12-Packs Only)
DESCRIPTION:
URL:https://www.winnavegas.com/event/half-price-night-on-paper-12-packs-only/2024-08-21/
LOCATION:IA
CATEGORIES:BINGO
END:VEVENT
BEGIN:VEVENT
DTSTART;TZID=America/Chicago:20240822T170000
DTEND;TZID=America/Chicago:20240822T220000
DTSTAMP:20260421T075925
CREATED:20240322T154656Z
LAST-MODIFIED:20240322T155407Z
UID:10002020-1724346000-1724364000@www.winnavegas.com
SUMMARY:Ladies Night
DESCRIPTION:
URL:https://www.winnavegas.com/event/ladies-night-7/2024-08-22/
LOCATION:IA
CATEGORIES:BINGO
END:VEVENT
BEGIN:VEVENT
DTSTART;TZID=America/Chicago:20240823T170000
DTEND;TZID=America/Chicago:20240823T220000
DTSTAMP:20260421T075926
CREATED:20230620T140239Z
LAST-MODIFIED:20250725T205736Z
UID:10001814-1724432400-1724450400@www.winnavegas.com
SUMMARY:Double Payout
DESCRIPTION:
URL:https://www.winnavegas.com/event/double-payout-12/2024-08-23/
LOCATION:IA
CATEGORIES:BINGO
END:VEVENT
BEGIN:VEVENT
DTSTART;TZID=America/Chicago:20240824T170000
DTEND;TZID=America/Chicago:20240824T220000
DTSTAMP:20260421T075926
CREATED:20230620T140239Z
LAST-MODIFIED:20250725T205736Z
UID:10001815-1724518800-1724536800@www.winnavegas.com
SUMMARY:Double Payout
DESCRIPTION:
URL:https://www.winnavegas.com/event/double-payout-12/2024-08-24/
LOCATION:IA
CATEGORIES:BINGO
END:VEVENT
BEGIN:VEVENT
DTSTART;TZID=America/Chicago:20240825T170000
DTEND;TZID=America/Chicago:20240825T220000
DTSTAMP:20260421T075926
CREATED:20230620T140345Z
LAST-MODIFIED:20230620T140345Z
UID:10002258-1724605200-1724623200@www.winnavegas.com
SUMMARY:Side Pack Sunday
DESCRIPTION:
URL:https://www.winnavegas.com/event/side-pack-sunday-2/2024-08-25/
LOCATION:IA
CATEGORIES:BINGO
END:VEVENT
BEGIN:VEVENT
DTSTART;VALUE=DATE:20240826
DTEND;VALUE=DATE:20240827
DTSTAMP:20260421T075926
CREATED:20230620T140423Z
LAST-MODIFIED:20230620T140423Z
UID:10002484-1724630400-1724716799@www.winnavegas.com
SUMMARY:BINGO CLOSED
DESCRIPTION:
URL:https://www.winnavegas.com/event/bingo-closed-3/2024-08-26/
LOCATION:IA
CATEGORIES:BINGO
END:VEVENT
BEGIN:VEVENT
DTSTART;VALUE=DATE:20240827
DTEND;VALUE=DATE:20240828
DTSTAMP:20260421T075926
CREATED:20230620T140423Z
LAST-MODIFIED:20230620T140423Z
UID:10002485-1724716800-1724803199@www.winnavegas.com
SUMMARY:BINGO CLOSED
DESCRIPTION:
URL:https://www.winnavegas.com/event/bingo-closed-3/2024-08-27/
LOCATION:IA
CATEGORIES:BINGO
END:VEVENT
BEGIN:VEVENT
DTSTART;TZID=America/Chicago:20240828T170000
DTEND;TZID=America/Chicago:20240828T220000
DTSTAMP:20260421T075926
CREATED:20230620T135814Z
LAST-MODIFIED:20230620T140027Z
UID:10002096-1724864400-1724882400@www.winnavegas.com
SUMMARY:Half Price Night (On Paper 12-Packs Only)
DESCRIPTION:
URL:https://www.winnavegas.com/event/half-price-night-on-paper-12-packs-only/2024-08-28/
LOCATION:IA
CATEGORIES:BINGO
END:VEVENT
BEGIN:VEVENT
DTSTART;TZID=America/Chicago:20240829T170000
DTEND;TZID=America/Chicago:20240829T220000
DTSTAMP:20260421T075926
CREATED:20240322T154833Z
LAST-MODIFIED:20240322T154833Z
UID:10002869-1724950800-1724968800@www.winnavegas.com
SUMMARY:Mens Night
DESCRIPTION:
URL:https://www.winnavegas.com/event/mens-night/2024-08-29/
LOCATION:IA
CATEGORIES:BINGO
END:VEVENT
BEGIN:VEVENT
DTSTART;TZID=America/Chicago:20240830T170000
DTEND;TZID=America/Chicago:20240830T220000
DTSTAMP:20260421T075926
CREATED:20230620T140239Z
LAST-MODIFIED:20250725T205736Z
UID:10001816-1725037200-1725055200@www.winnavegas.com
SUMMARY:Double Payout
DESCRIPTION:
URL:https://www.winnavegas.com/event/double-payout-12/2024-08-30/
LOCATION:IA
CATEGORIES:BINGO
END:VEVENT
BEGIN:VEVENT
DTSTART;TZID=America/Chicago:20240831T170000
DTEND;TZID=America/Chicago:20240831T220000
DTSTAMP:20260421T075926
CREATED:20230620T140239Z
LAST-MODIFIED:20250725T205736Z
UID:10001817-1725123600-1725141600@www.winnavegas.com
SUMMARY:Double Payout
DESCRIPTION:
URL:https://www.winnavegas.com/event/double-payout-12/2024-08-31/
LOCATION:IA
CATEGORIES:BINGO
END:VEVENT
END:VCALENDAR