BEGIN:VCALENDAR
VERSION:2.0
PRODID:-//WinnaVegas - ECPv6.5.2//NONSGML v1.0//EN
CALSCALE:GREGORIAN
METHOD:PUBLISH
X-WR-CALNAME:WinnaVegas
X-ORIGINAL-URL:https://www.winnavegas.com
X-WR-CALDESC:Events for WinnaVegas
REFRESH-INTERVAL;VALUE=DURATION:PT1H
X-Robots-Tag:noindex
X-PUBLISHED-TTL:PT1H
BEGIN:VTIMEZONE
TZID:America/Chicago
BEGIN:DAYLIGHT
TZOFFSETFROM:-0600
TZOFFSETTO:-0500
TZNAME:CDT
DTSTART:20250309T080000
END:DAYLIGHT
BEGIN:STANDARD
TZOFFSETFROM:-0500
TZOFFSETTO:-0600
TZNAME:CST
DTSTART:20251102T070000
END:STANDARD
END:VTIMEZONE
BEGIN:VEVENT
DTSTART;TZID=America/Chicago:20250201T170000
DTEND;TZID=America/Chicago:20250201T220000
DTSTAMP:20260419T132353
CREATED:20230620T140239Z
LAST-MODIFIED:20250725T205736Z
UID:10001861-1738429200-1738447200@www.winnavegas.com
SUMMARY:Double Payout
DESCRIPTION:
URL:https://www.winnavegas.com/event/double-payout-12/2025-02-01/
LOCATION:IA
CATEGORIES:BINGO
END:VEVENT
BEGIN:VEVENT
DTSTART;TZID=America/Chicago:20250202T170000
DTEND;TZID=America/Chicago:20250202T220000
DTSTAMP:20260419T132353
CREATED:20230620T140345Z
LAST-MODIFIED:20230620T140345Z
UID:10002281-1738515600-1738533600@www.winnavegas.com
SUMMARY:Side Pack Sunday
DESCRIPTION:
URL:https://www.winnavegas.com/event/side-pack-sunday-2/2025-02-02/
LOCATION:IA
CATEGORIES:BINGO
END:VEVENT
BEGIN:VEVENT
DTSTART;VALUE=DATE:20250203
DTEND;VALUE=DATE:20250204
DTSTAMP:20260419T132353
CREATED:20230620T140423Z
LAST-MODIFIED:20230620T140423Z
UID:10002530-1738540800-1738627199@www.winnavegas.com
SUMMARY:BINGO CLOSED
DESCRIPTION:
URL:https://www.winnavegas.com/event/bingo-closed-3/2025-02-03/
LOCATION:IA
CATEGORIES:BINGO
END:VEVENT
BEGIN:VEVENT
DTSTART;VALUE=DATE:20250204
DTEND;VALUE=DATE:20250205
DTSTAMP:20260419T132353
CREATED:20230620T140423Z
LAST-MODIFIED:20230620T140423Z
UID:10002531-1738627200-1738713599@www.winnavegas.com
SUMMARY:BINGO CLOSED
DESCRIPTION:
URL:https://www.winnavegas.com/event/bingo-closed-3/2025-02-04/
LOCATION:IA
CATEGORIES:BINGO
END:VEVENT
BEGIN:VEVENT
DTSTART;TZID=America/Chicago:20250205T170000
DTEND;TZID=America/Chicago:20250205T220000
DTSTAMP:20260419T132353
CREATED:20230620T135814Z
LAST-MODIFIED:20230620T140027Z
UID:10002119-1738774800-1738792800@www.winnavegas.com
SUMMARY:Half Price Night (On Paper 12-Packs Only)
DESCRIPTION:
URL:https://www.winnavegas.com/event/half-price-night-on-paper-12-packs-only/2025-02-05/
LOCATION:IA
CATEGORIES:BINGO
END:VEVENT
BEGIN:VEVENT
DTSTART;TZID=America/Chicago:20250207T170000
DTEND;TZID=America/Chicago:20250207T220000
DTSTAMP:20260419T132353
CREATED:20230620T140239Z
LAST-MODIFIED:20250725T205736Z
UID:10001862-1738947600-1738965600@www.winnavegas.com
SUMMARY:Double Payout
DESCRIPTION:
URL:https://www.winnavegas.com/event/double-payout-12/2025-02-07/
LOCATION:IA
CATEGORIES:BINGO
END:VEVENT
BEGIN:VEVENT
DTSTART;TZID=America/Chicago:20250208T170000
DTEND;TZID=America/Chicago:20250208T220000
DTSTAMP:20260419T132353
CREATED:20230620T140239Z
LAST-MODIFIED:20250725T205736Z
UID:10001863-1739034000-1739052000@www.winnavegas.com
SUMMARY:Double Payout
DESCRIPTION:
URL:https://www.winnavegas.com/event/double-payout-12/2025-02-08/
LOCATION:IA
CATEGORIES:BINGO
END:VEVENT
BEGIN:VEVENT
DTSTART;TZID=America/Chicago:20250209T170000
DTEND;TZID=America/Chicago:20250209T220000
DTSTAMP:20260419T132353
CREATED:20230620T140345Z
LAST-MODIFIED:20230620T140345Z
UID:10002282-1739120400-1739138400@www.winnavegas.com
SUMMARY:Side Pack Sunday
DESCRIPTION:
URL:https://www.winnavegas.com/event/side-pack-sunday-2/2025-02-09/
LOCATION:IA
CATEGORIES:BINGO
END:VEVENT
BEGIN:VEVENT
DTSTART;VALUE=DATE:20250210
DTEND;VALUE=DATE:20250211
DTSTAMP:20260419T132353
CREATED:20230620T140423Z
LAST-MODIFIED:20230620T140423Z
UID:10002532-1739145600-1739231999@www.winnavegas.com
SUMMARY:BINGO CLOSED
DESCRIPTION:
URL:https://www.winnavegas.com/event/bingo-closed-3/2025-02-10/
LOCATION:IA
CATEGORIES:BINGO
END:VEVENT
BEGIN:VEVENT
DTSTART;VALUE=DATE:20250211
DTEND;VALUE=DATE:20250212
DTSTAMP:20260419T132354
CREATED:20230620T140423Z
LAST-MODIFIED:20230620T140423Z
UID:10002533-1739232000-1739318399@www.winnavegas.com
SUMMARY:BINGO CLOSED
DESCRIPTION:
URL:https://www.winnavegas.com/event/bingo-closed-3/2025-02-11/
LOCATION:IA
CATEGORIES:BINGO
END:VEVENT
BEGIN:VEVENT
DTSTART;TZID=America/Chicago:20250212T170000
DTEND;TZID=America/Chicago:20250212T220000
DTSTAMP:20260419T132354
CREATED:20230620T135814Z
LAST-MODIFIED:20230620T140027Z
UID:10002120-1739379600-1739397600@www.winnavegas.com
SUMMARY:Half Price Night (On Paper 12-Packs Only)
DESCRIPTION:
URL:https://www.winnavegas.com/event/half-price-night-on-paper-12-packs-only/2025-02-12/
LOCATION:IA
CATEGORIES:BINGO
END:VEVENT
BEGIN:VEVENT
DTSTART;TZID=America/Chicago:20250214T170000
DTEND;TZID=America/Chicago:20250214T220000
DTSTAMP:20260419T132354
CREATED:20230620T140239Z
LAST-MODIFIED:20250725T205736Z
UID:10001864-1739552400-1739570400@www.winnavegas.com
SUMMARY:Double Payout
DESCRIPTION:
URL:https://www.winnavegas.com/event/double-payout-12/2025-02-14/
LOCATION:IA
CATEGORIES:BINGO
END:VEVENT
BEGIN:VEVENT
DTSTART;TZID=America/Chicago:20250215T170000
DTEND;TZID=America/Chicago:20250215T220000
DTSTAMP:20260419T132354
CREATED:20230620T140239Z
LAST-MODIFIED:20250725T205736Z
UID:10001865-1739638800-1739656800@www.winnavegas.com
SUMMARY:Double Payout
DESCRIPTION:
URL:https://www.winnavegas.com/event/double-payout-12/2025-02-15/
LOCATION:IA
CATEGORIES:BINGO
END:VEVENT
BEGIN:VEVENT
DTSTART;TZID=America/Chicago:20250216T170000
DTEND;TZID=America/Chicago:20250216T220000
DTSTAMP:20260419T132354
CREATED:20230620T140345Z
LAST-MODIFIED:20230620T140345Z
UID:10002283-1739725200-1739743200@www.winnavegas.com
SUMMARY:Side Pack Sunday
DESCRIPTION:
URL:https://www.winnavegas.com/event/side-pack-sunday-2/2025-02-16/
LOCATION:IA
CATEGORIES:BINGO
END:VEVENT
BEGIN:VEVENT
DTSTART;VALUE=DATE:20250217
DTEND;VALUE=DATE:20250218
DTSTAMP:20260419T132354
CREATED:20230620T140423Z
LAST-MODIFIED:20230620T140423Z
UID:10002534-1739750400-1739836799@www.winnavegas.com
SUMMARY:BINGO CLOSED
DESCRIPTION:
URL:https://www.winnavegas.com/event/bingo-closed-3/2025-02-17/
LOCATION:IA
CATEGORIES:BINGO
END:VEVENT
BEGIN:VEVENT
DTSTART;VALUE=DATE:20250218
DTEND;VALUE=DATE:20250219
DTSTAMP:20260419T132354
CREATED:20230620T140423Z
LAST-MODIFIED:20230620T140423Z
UID:10002535-1739836800-1739923199@www.winnavegas.com
SUMMARY:BINGO CLOSED
DESCRIPTION:
URL:https://www.winnavegas.com/event/bingo-closed-3/2025-02-18/
LOCATION:IA
CATEGORIES:BINGO
END:VEVENT
BEGIN:VEVENT
DTSTART;TZID=America/Chicago:20250219T170000
DTEND;TZID=America/Chicago:20250219T220000
DTSTAMP:20260419T132354
CREATED:20230620T135814Z
LAST-MODIFIED:20230620T140027Z
UID:10002121-1739984400-1740002400@www.winnavegas.com
SUMMARY:Half Price Night (On Paper 12-Packs Only)
DESCRIPTION:
URL:https://www.winnavegas.com/event/half-price-night-on-paper-12-packs-only/2025-02-19/
LOCATION:IA
CATEGORIES:BINGO
END:VEVENT
BEGIN:VEVENT
DTSTART;TZID=America/Chicago:20250221T170000
DTEND;TZID=America/Chicago:20250221T220000
DTSTAMP:20260419T132354
CREATED:20230620T140239Z
LAST-MODIFIED:20250725T205736Z
UID:10001866-1740157200-1740175200@www.winnavegas.com
SUMMARY:Double Payout
DESCRIPTION:
URL:https://www.winnavegas.com/event/double-payout-12/2025-02-21/
LOCATION:IA
CATEGORIES:BINGO
END:VEVENT
BEGIN:VEVENT
DTSTART;TZID=America/Chicago:20250223T170000
DTEND;TZID=America/Chicago:20250223T220000
DTSTAMP:20260419T132354
CREATED:20230620T140345Z
LAST-MODIFIED:20230620T140345Z
UID:10002284-1740330000-1740348000@www.winnavegas.com
SUMMARY:Side Pack Sunday
DESCRIPTION:
URL:https://www.winnavegas.com/event/side-pack-sunday-2/2025-02-23/
LOCATION:IA
CATEGORIES:BINGO
END:VEVENT
BEGIN:VEVENT
DTSTART;VALUE=DATE:20250224
DTEND;VALUE=DATE:20250225
DTSTAMP:20260419T132354
CREATED:20230620T140423Z
LAST-MODIFIED:20230620T140423Z
UID:10002536-1740355200-1740441599@www.winnavegas.com
SUMMARY:BINGO CLOSED
DESCRIPTION:
URL:https://www.winnavegas.com/event/bingo-closed-3/2025-02-24/
LOCATION:IA
CATEGORIES:BINGO
END:VEVENT
BEGIN:VEVENT
DTSTART;VALUE=DATE:20250225
DTEND;VALUE=DATE:20250226
DTSTAMP:20260419T132354
CREATED:20230620T140423Z
LAST-MODIFIED:20230620T140423Z
UID:10002537-1740441600-1740527999@www.winnavegas.com
SUMMARY:BINGO CLOSED
DESCRIPTION:
URL:https://www.winnavegas.com/event/bingo-closed-3/2025-02-25/
LOCATION:IA
CATEGORIES:BINGO
END:VEVENT
BEGIN:VEVENT
DTSTART;TZID=America/Chicago:20250226T170000
DTEND;TZID=America/Chicago:20250226T220000
DTSTAMP:20260419T132354
CREATED:20230620T135814Z
LAST-MODIFIED:20230620T140027Z
UID:10002122-1740589200-1740607200@www.winnavegas.com
SUMMARY:Half Price Night (On Paper 12-Packs Only)
DESCRIPTION:
URL:https://www.winnavegas.com/event/half-price-night-on-paper-12-packs-only/2025-02-26/
LOCATION:IA
CATEGORIES:BINGO
END:VEVENT
BEGIN:VEVENT
DTSTART;TZID=America/Chicago:20250228T170000
DTEND;TZID=America/Chicago:20250228T220000
DTSTAMP:20260419T132354
CREATED:20230620T140239Z
LAST-MODIFIED:20250725T205736Z
UID:10001868-1740762000-1740780000@www.winnavegas.com
SUMMARY:Double Payout
DESCRIPTION:
URL:https://www.winnavegas.com/event/double-payout-12/2025-02-28/
LOCATION:IA
CATEGORIES:BINGO
END:VEVENT
END:VCALENDAR