BEGIN:VCALENDAR
VERSION:2.0
PRODID:-//WinnaVegas - ECPv6.5.2//NONSGML v1.0//EN
CALSCALE:GREGORIAN
METHOD:PUBLISH
X-WR-CALNAME:WinnaVegas
X-ORIGINAL-URL:https://www.winnavegas.com
X-WR-CALDESC:Events for WinnaVegas
REFRESH-INTERVAL;VALUE=DURATION:PT1H
X-Robots-Tag:noindex
X-PUBLISHED-TTL:PT1H
BEGIN:VTIMEZONE
TZID:America/Chicago
BEGIN:DAYLIGHT
TZOFFSETFROM:-0600
TZOFFSETTO:-0500
TZNAME:CDT
DTSTART:20250309T080000
END:DAYLIGHT
BEGIN:STANDARD
TZOFFSETFROM:-0500
TZOFFSETTO:-0600
TZNAME:CST
DTSTART:20251102T070000
END:STANDARD
END:VTIMEZONE
BEGIN:VEVENT
DTSTART;TZID=America/Chicago:20250301T170000
DTEND;TZID=America/Chicago:20250301T220000
DTSTAMP:20260419T145540
CREATED:20230620T140239Z
LAST-MODIFIED:20250725T205736Z
UID:10001869-1740848400-1740866400@www.winnavegas.com
SUMMARY:Double Payout
DESCRIPTION:
URL:https://www.winnavegas.com/event/double-payout-12/2025-03-01/
LOCATION:IA
CATEGORIES:BINGO
END:VEVENT
BEGIN:VEVENT
DTSTART;TZID=America/Chicago:20250302T170000
DTEND;TZID=America/Chicago:20250302T220000
DTSTAMP:20260419T145540
CREATED:20230620T140345Z
LAST-MODIFIED:20230620T140345Z
UID:10002285-1740934800-1740952800@www.winnavegas.com
SUMMARY:Side Pack Sunday
DESCRIPTION:
URL:https://www.winnavegas.com/event/side-pack-sunday-2/2025-03-02/
LOCATION:IA
CATEGORIES:BINGO
END:VEVENT
BEGIN:VEVENT
DTSTART;VALUE=DATE:20250303
DTEND;VALUE=DATE:20250304
DTSTAMP:20260419T145540
CREATED:20230620T140423Z
LAST-MODIFIED:20230620T140423Z
UID:10002538-1740960000-1741046399@www.winnavegas.com
SUMMARY:BINGO CLOSED
DESCRIPTION:
URL:https://www.winnavegas.com/event/bingo-closed-3/2025-03-03/
LOCATION:IA
CATEGORIES:BINGO
END:VEVENT
BEGIN:VEVENT
DTSTART;VALUE=DATE:20250304
DTEND;VALUE=DATE:20250305
DTSTAMP:20260419T145540
CREATED:20230620T140423Z
LAST-MODIFIED:20230620T140423Z
UID:10002539-1741046400-1741132799@www.winnavegas.com
SUMMARY:BINGO CLOSED
DESCRIPTION:
URL:https://www.winnavegas.com/event/bingo-closed-3/2025-03-04/
LOCATION:IA
CATEGORIES:BINGO
END:VEVENT
BEGIN:VEVENT
DTSTART;TZID=America/Chicago:20250305T170000
DTEND;TZID=America/Chicago:20250305T220000
DTSTAMP:20260419T145540
CREATED:20230620T135814Z
LAST-MODIFIED:20230620T140027Z
UID:10002123-1741194000-1741212000@www.winnavegas.com
SUMMARY:Half Price Night (On Paper 12-Packs Only)
DESCRIPTION:
URL:https://www.winnavegas.com/event/half-price-night-on-paper-12-packs-only/2025-03-05/
LOCATION:IA
CATEGORIES:BINGO
END:VEVENT
BEGIN:VEVENT
DTSTART;TZID=America/Chicago:20250307T170000
DTEND;TZID=America/Chicago:20250307T220000
DTSTAMP:20260419T145540
CREATED:20230620T140239Z
LAST-MODIFIED:20250725T205736Z
UID:10001870-1741366800-1741384800@www.winnavegas.com
SUMMARY:Double Payout
DESCRIPTION:
URL:https://www.winnavegas.com/event/double-payout-12/2025-03-07/
LOCATION:IA
CATEGORIES:BINGO
END:VEVENT
BEGIN:VEVENT
DTSTART;TZID=America/Chicago:20250308T170000
DTEND;TZID=America/Chicago:20250308T220000
DTSTAMP:20260419T145540
CREATED:20230620T140239Z
LAST-MODIFIED:20250725T205736Z
UID:10001871-1741453200-1741471200@www.winnavegas.com
SUMMARY:Double Payout
DESCRIPTION:
URL:https://www.winnavegas.com/event/double-payout-12/2025-03-08/
LOCATION:IA
CATEGORIES:BINGO
END:VEVENT
BEGIN:VEVENT
DTSTART;TZID=America/Chicago:20250309T170000
DTEND;TZID=America/Chicago:20250309T220000
DTSTAMP:20260419T145540
CREATED:20230620T140345Z
LAST-MODIFIED:20230620T140345Z
UID:10002286-1741539600-1741557600@www.winnavegas.com
SUMMARY:Side Pack Sunday
DESCRIPTION:
URL:https://www.winnavegas.com/event/side-pack-sunday-2/2025-03-09/
LOCATION:IA
CATEGORIES:BINGO
END:VEVENT
BEGIN:VEVENT
DTSTART;VALUE=DATE:20250310
DTEND;VALUE=DATE:20250311
DTSTAMP:20260419T145540
CREATED:20230620T140423Z
LAST-MODIFIED:20230620T140423Z
UID:10002540-1741564800-1741651199@www.winnavegas.com
SUMMARY:BINGO CLOSED
DESCRIPTION:
URL:https://www.winnavegas.com/event/bingo-closed-3/2025-03-10/
LOCATION:IA
CATEGORIES:BINGO
END:VEVENT
BEGIN:VEVENT
DTSTART;VALUE=DATE:20250311
DTEND;VALUE=DATE:20250312
DTSTAMP:20260419T145540
CREATED:20230620T140423Z
LAST-MODIFIED:20230620T140423Z
UID:10002541-1741651200-1741737599@www.winnavegas.com
SUMMARY:BINGO CLOSED
DESCRIPTION:
URL:https://www.winnavegas.com/event/bingo-closed-3/2025-03-11/
LOCATION:IA
CATEGORIES:BINGO
END:VEVENT
BEGIN:VEVENT
DTSTART;TZID=America/Chicago:20250312T170000
DTEND;TZID=America/Chicago:20250312T220000
DTSTAMP:20260419T145540
CREATED:20230620T135814Z
LAST-MODIFIED:20230620T140027Z
UID:10002124-1741798800-1741816800@www.winnavegas.com
SUMMARY:Half Price Night (On Paper 12-Packs Only)
DESCRIPTION:
URL:https://www.winnavegas.com/event/half-price-night-on-paper-12-packs-only/2025-03-12/
LOCATION:IA
CATEGORIES:BINGO
END:VEVENT
BEGIN:VEVENT
DTSTART;TZID=America/Chicago:20250314T170000
DTEND;TZID=America/Chicago:20250314T220000
DTSTAMP:20260419T145540
CREATED:20230620T140239Z
LAST-MODIFIED:20250725T205736Z
UID:10001872-1741971600-1741989600@www.winnavegas.com
SUMMARY:Double Payout
DESCRIPTION:
URL:https://www.winnavegas.com/event/double-payout-12/2025-03-14/
LOCATION:IA
CATEGORIES:BINGO
END:VEVENT
BEGIN:VEVENT
DTSTART;TZID=America/Chicago:20250315T170000
DTEND;TZID=America/Chicago:20250315T220000
DTSTAMP:20260419T145540
CREATED:20230620T140239Z
LAST-MODIFIED:20250725T205736Z
UID:10001873-1742058000-1742076000@www.winnavegas.com
SUMMARY:Double Payout
DESCRIPTION:
URL:https://www.winnavegas.com/event/double-payout-12/2025-03-15/
LOCATION:IA
CATEGORIES:BINGO
END:VEVENT
BEGIN:VEVENT
DTSTART;TZID=America/Chicago:20250316T170000
DTEND;TZID=America/Chicago:20250316T220000
DTSTAMP:20260419T145540
CREATED:20230620T140345Z
LAST-MODIFIED:20230620T140345Z
UID:10002287-1742144400-1742162400@www.winnavegas.com
SUMMARY:Side Pack Sunday
DESCRIPTION:
URL:https://www.winnavegas.com/event/side-pack-sunday-2/2025-03-16/
LOCATION:IA
CATEGORIES:BINGO
END:VEVENT
BEGIN:VEVENT
DTSTART;VALUE=DATE:20250317
DTEND;VALUE=DATE:20250318
DTSTAMP:20260419T145540
CREATED:20230620T140423Z
LAST-MODIFIED:20230620T140423Z
UID:10002542-1742169600-1742255999@www.winnavegas.com
SUMMARY:BINGO CLOSED
DESCRIPTION:
URL:https://www.winnavegas.com/event/bingo-closed-3/2025-03-17/
LOCATION:IA
CATEGORIES:BINGO
END:VEVENT
BEGIN:VEVENT
DTSTART;VALUE=DATE:20250318
DTEND;VALUE=DATE:20250319
DTSTAMP:20260419T145540
CREATED:20230620T140423Z
LAST-MODIFIED:20230620T140423Z
UID:10002543-1742256000-1742342399@www.winnavegas.com
SUMMARY:BINGO CLOSED
DESCRIPTION:
URL:https://www.winnavegas.com/event/bingo-closed-3/2025-03-18/
LOCATION:IA
CATEGORIES:BINGO
END:VEVENT
BEGIN:VEVENT
DTSTART;TZID=America/Chicago:20250319T170000
DTEND;TZID=America/Chicago:20250319T220000
DTSTAMP:20260419T145540
CREATED:20230620T135814Z
LAST-MODIFIED:20230620T140027Z
UID:10002125-1742403600-1742421600@www.winnavegas.com
SUMMARY:Half Price Night (On Paper 12-Packs Only)
DESCRIPTION:
URL:https://www.winnavegas.com/event/half-price-night-on-paper-12-packs-only/2025-03-19/
LOCATION:IA
CATEGORIES:BINGO
END:VEVENT
BEGIN:VEVENT
DTSTART;TZID=America/Chicago:20250321T170000
DTEND;TZID=America/Chicago:20250321T220000
DTSTAMP:20260419T145540
CREATED:20230620T140239Z
LAST-MODIFIED:20250725T205736Z
UID:10001874-1742576400-1742594400@www.winnavegas.com
SUMMARY:Double Payout
DESCRIPTION:
URL:https://www.winnavegas.com/event/double-payout-12/2025-03-21/
LOCATION:IA
CATEGORIES:BINGO
END:VEVENT
BEGIN:VEVENT
DTSTART;TZID=America/Chicago:20250322T170000
DTEND;TZID=America/Chicago:20250322T220000
DTSTAMP:20260419T145540
CREATED:20230620T140239Z
LAST-MODIFIED:20250725T205736Z
UID:10001875-1742662800-1742680800@www.winnavegas.com
SUMMARY:Double Payout
DESCRIPTION:
URL:https://www.winnavegas.com/event/double-payout-12/2025-03-22/
LOCATION:IA
CATEGORIES:BINGO
END:VEVENT
BEGIN:VEVENT
DTSTART;TZID=America/Chicago:20250323T170000
DTEND;TZID=America/Chicago:20250323T220000
DTSTAMP:20260419T145540
CREATED:20230620T140345Z
LAST-MODIFIED:20230620T140345Z
UID:10002288-1742749200-1742767200@www.winnavegas.com
SUMMARY:Side Pack Sunday
DESCRIPTION:
URL:https://www.winnavegas.com/event/side-pack-sunday-2/2025-03-23/
LOCATION:IA
CATEGORIES:BINGO
END:VEVENT
BEGIN:VEVENT
DTSTART;VALUE=DATE:20250324
DTEND;VALUE=DATE:20250325
DTSTAMP:20260419T145540
CREATED:20230620T140423Z
LAST-MODIFIED:20230620T140423Z
UID:10002544-1742774400-1742860799@www.winnavegas.com
SUMMARY:BINGO CLOSED
DESCRIPTION:
URL:https://www.winnavegas.com/event/bingo-closed-3/2025-03-24/
LOCATION:IA
CATEGORIES:BINGO
END:VEVENT
BEGIN:VEVENT
DTSTART;VALUE=DATE:20250325
DTEND;VALUE=DATE:20250326
DTSTAMP:20260419T145540
CREATED:20230620T140423Z
LAST-MODIFIED:20230620T140423Z
UID:10002545-1742860800-1742947199@www.winnavegas.com
SUMMARY:BINGO CLOSED
DESCRIPTION:
URL:https://www.winnavegas.com/event/bingo-closed-3/2025-03-25/
LOCATION:IA
CATEGORIES:BINGO
END:VEVENT
BEGIN:VEVENT
DTSTART;TZID=America/Chicago:20250326T170000
DTEND;TZID=America/Chicago:20250326T220000
DTSTAMP:20260419T145540
CREATED:20230620T135814Z
LAST-MODIFIED:20230620T140027Z
UID:10002126-1743008400-1743026400@www.winnavegas.com
SUMMARY:Half Price Night (On Paper 12-Packs Only)
DESCRIPTION:
URL:https://www.winnavegas.com/event/half-price-night-on-paper-12-packs-only/2025-03-26/
LOCATION:IA
CATEGORIES:BINGO
END:VEVENT
BEGIN:VEVENT
DTSTART;TZID=America/Chicago:20250328T170000
DTEND;TZID=America/Chicago:20250328T220000
DTSTAMP:20260419T145540
CREATED:20230620T140239Z
LAST-MODIFIED:20250725T205736Z
UID:10001876-1743181200-1743199200@www.winnavegas.com
SUMMARY:Double Payout
DESCRIPTION:
URL:https://www.winnavegas.com/event/double-payout-12/2025-03-28/
LOCATION:IA
CATEGORIES:BINGO
END:VEVENT
BEGIN:VEVENT
DTSTART;TZID=America/Chicago:20250329T170000
DTEND;TZID=America/Chicago:20250329T220000
DTSTAMP:20260419T145540
CREATED:20230620T140239Z
LAST-MODIFIED:20250725T205736Z
UID:10001877-1743267600-1743285600@www.winnavegas.com
SUMMARY:Double Payout
DESCRIPTION:
URL:https://www.winnavegas.com/event/double-payout-12/2025-03-29/
LOCATION:IA
CATEGORIES:BINGO
END:VEVENT
BEGIN:VEVENT
DTSTART;TZID=America/Chicago:20250330T170000
DTEND;TZID=America/Chicago:20250330T220000
DTSTAMP:20260419T145540
CREATED:20230620T140345Z
LAST-MODIFIED:20230620T140345Z
UID:10002289-1743354000-1743372000@www.winnavegas.com
SUMMARY:Side Pack Sunday
DESCRIPTION:
URL:https://www.winnavegas.com/event/side-pack-sunday-2/2025-03-30/
LOCATION:IA
CATEGORIES:BINGO
END:VEVENT
BEGIN:VEVENT
DTSTART;VALUE=DATE:20250331
DTEND;VALUE=DATE:20250401
DTSTAMP:20260419T145540
CREATED:20230620T140423Z
LAST-MODIFIED:20230620T140423Z
UID:10002546-1743379200-1743465599@www.winnavegas.com
SUMMARY:BINGO CLOSED
DESCRIPTION:
URL:https://www.winnavegas.com/event/bingo-closed-3/2025-03-31/
LOCATION:IA
CATEGORIES:BINGO
END:VEVENT
END:VCALENDAR