BEGIN:VCALENDAR
VERSION:2.0
PRODID:-//WinnaVegas - ECPv6.5.2//NONSGML v1.0//EN
CALSCALE:GREGORIAN
METHOD:PUBLISH
X-WR-CALNAME:WinnaVegas
X-ORIGINAL-URL:https://www.winnavegas.com
X-WR-CALDESC:Events for WinnaVegas
REFRESH-INTERVAL;VALUE=DURATION:PT1H
X-Robots-Tag:noindex
X-PUBLISHED-TTL:PT1H
BEGIN:VTIMEZONE
TZID:America/Chicago
BEGIN:DAYLIGHT
TZOFFSETFROM:-0600
TZOFFSETTO:-0500
TZNAME:CDT
DTSTART:20250309T080000
END:DAYLIGHT
BEGIN:STANDARD
TZOFFSETFROM:-0500
TZOFFSETTO:-0600
TZNAME:CST
DTSTART:20251102T070000
END:STANDARD
END:VTIMEZONE
BEGIN:VEVENT
DTSTART;TZID=America/Chicago:20250601T170000
DTEND;TZID=America/Chicago:20250601T220000
DTSTAMP:20260425T210314
CREATED:20230620T140345Z
LAST-MODIFIED:20230620T140345Z
UID:10002298-1748797200-1748815200@www.winnavegas.com
SUMMARY:Side Pack Sunday
DESCRIPTION:
URL:https://www.winnavegas.com/event/side-pack-sunday-2/2025-06-01/
LOCATION:IA
CATEGORIES:BINGO
END:VEVENT
BEGIN:VEVENT
DTSTART;VALUE=DATE:20250602
DTEND;VALUE=DATE:20250603
DTSTAMP:20260425T210314
CREATED:20230620T140423Z
LAST-MODIFIED:20230620T140423Z
UID:10002564-1748822400-1748908799@www.winnavegas.com
SUMMARY:BINGO CLOSED
DESCRIPTION:
URL:https://www.winnavegas.com/event/bingo-closed-3/2025-06-02/
LOCATION:IA
CATEGORIES:BINGO
END:VEVENT
BEGIN:VEVENT
DTSTART;VALUE=DATE:20250603
DTEND;VALUE=DATE:20250604
DTSTAMP:20260425T210314
CREATED:20230620T140423Z
LAST-MODIFIED:20230620T140423Z
UID:10002565-1748908800-1748995199@www.winnavegas.com
SUMMARY:BINGO CLOSED
DESCRIPTION:
URL:https://www.winnavegas.com/event/bingo-closed-3/2025-06-03/
LOCATION:IA
CATEGORIES:BINGO
END:VEVENT
BEGIN:VEVENT
DTSTART;TZID=America/Chicago:20250604T170000
DTEND;TZID=America/Chicago:20250604T220000
DTSTAMP:20260425T210314
CREATED:20230620T135814Z
LAST-MODIFIED:20230620T140027Z
UID:10002136-1749056400-1749074400@www.winnavegas.com
SUMMARY:Half Price Night (On Paper 12-Packs Only)
DESCRIPTION:
URL:https://www.winnavegas.com/event/half-price-night-on-paper-12-packs-only/2025-06-04/
LOCATION:IA
CATEGORIES:BINGO
END:VEVENT
BEGIN:VEVENT
DTSTART;TZID=America/Chicago:20250606T170000
DTEND;TZID=America/Chicago:20250606T220000
DTSTAMP:20260425T210314
CREATED:20230620T140239Z
LAST-MODIFIED:20250725T205736Z
UID:10001896-1749229200-1749247200@www.winnavegas.com
SUMMARY:Double Payout
DESCRIPTION:
URL:https://www.winnavegas.com/event/double-payout-12/2025-06-06/
LOCATION:IA
CATEGORIES:BINGO
END:VEVENT
BEGIN:VEVENT
DTSTART;TZID=America/Chicago:20250607T170000
DTEND;TZID=America/Chicago:20250607T220000
DTSTAMP:20260425T210314
CREATED:20230620T140239Z
LAST-MODIFIED:20250725T205736Z
UID:10001897-1749315600-1749333600@www.winnavegas.com
SUMMARY:Double Payout
DESCRIPTION:
URL:https://www.winnavegas.com/event/double-payout-12/2025-06-07/
LOCATION:IA
CATEGORIES:BINGO
END:VEVENT
BEGIN:VEVENT
DTSTART;TZID=America/Chicago:20250608T170000
DTEND;TZID=America/Chicago:20250608T220000
DTSTAMP:20260425T210314
CREATED:20230620T140345Z
LAST-MODIFIED:20230620T140345Z
UID:10002299-1749402000-1749420000@www.winnavegas.com
SUMMARY:Side Pack Sunday
DESCRIPTION:
URL:https://www.winnavegas.com/event/side-pack-sunday-2/2025-06-08/
LOCATION:IA
CATEGORIES:BINGO
END:VEVENT
BEGIN:VEVENT
DTSTART;VALUE=DATE:20250609
DTEND;VALUE=DATE:20250610
DTSTAMP:20260425T210314
CREATED:20230620T140423Z
LAST-MODIFIED:20230620T140423Z
UID:10002566-1749427200-1749513599@www.winnavegas.com
SUMMARY:BINGO CLOSED
DESCRIPTION:
URL:https://www.winnavegas.com/event/bingo-closed-3/2025-06-09/
LOCATION:IA
CATEGORIES:BINGO
END:VEVENT
BEGIN:VEVENT
DTSTART;VALUE=DATE:20250610
DTEND;VALUE=DATE:20250611
DTSTAMP:20260425T210314
CREATED:20230620T140423Z
LAST-MODIFIED:20230620T140423Z
UID:10002567-1749513600-1749599999@www.winnavegas.com
SUMMARY:BINGO CLOSED
DESCRIPTION:
URL:https://www.winnavegas.com/event/bingo-closed-3/2025-06-10/
LOCATION:IA
CATEGORIES:BINGO
END:VEVENT
BEGIN:VEVENT
DTSTART;TZID=America/Chicago:20250611T170000
DTEND;TZID=America/Chicago:20250611T220000
DTSTAMP:20260425T210314
CREATED:20230620T135814Z
LAST-MODIFIED:20230620T140027Z
UID:10002137-1749661200-1749679200@www.winnavegas.com
SUMMARY:Half Price Night (On Paper 12-Packs Only)
DESCRIPTION:
URL:https://www.winnavegas.com/event/half-price-night-on-paper-12-packs-only/2025-06-11/
LOCATION:IA
CATEGORIES:BINGO
END:VEVENT
BEGIN:VEVENT
DTSTART;TZID=America/Chicago:20250613T170000
DTEND;TZID=America/Chicago:20250613T220000
DTSTAMP:20260425T210314
CREATED:20230620T140239Z
LAST-MODIFIED:20250725T205736Z
UID:10001898-1749834000-1749852000@www.winnavegas.com
SUMMARY:Double Payout
DESCRIPTION:
URL:https://www.winnavegas.com/event/double-payout-12/2025-06-13/
LOCATION:IA
CATEGORIES:BINGO
END:VEVENT
BEGIN:VEVENT
DTSTART;TZID=America/Chicago:20250614T170000
DTEND;TZID=America/Chicago:20250614T220000
DTSTAMP:20260425T210314
CREATED:20230620T140239Z
LAST-MODIFIED:20250725T205736Z
UID:10001899-1749920400-1749938400@www.winnavegas.com
SUMMARY:Double Payout
DESCRIPTION:
URL:https://www.winnavegas.com/event/double-payout-12/2025-06-14/
LOCATION:IA
CATEGORIES:BINGO
END:VEVENT
BEGIN:VEVENT
DTSTART;TZID=America/Chicago:20250615T170000
DTEND;TZID=America/Chicago:20250615T220000
DTSTAMP:20260425T210314
CREATED:20230620T140345Z
LAST-MODIFIED:20230620T140345Z
UID:10002300-1750006800-1750024800@www.winnavegas.com
SUMMARY:Side Pack Sunday
DESCRIPTION:
URL:https://www.winnavegas.com/event/side-pack-sunday-2/2025-06-15/
LOCATION:IA
CATEGORIES:BINGO
END:VEVENT
BEGIN:VEVENT
DTSTART;VALUE=DATE:20250616
DTEND;VALUE=DATE:20250617
DTSTAMP:20260425T210314
CREATED:20230620T140423Z
LAST-MODIFIED:20230620T140423Z
UID:10002568-1750032000-1750118399@www.winnavegas.com
SUMMARY:BINGO CLOSED
DESCRIPTION:
URL:https://www.winnavegas.com/event/bingo-closed-3/2025-06-16/
LOCATION:IA
CATEGORIES:BINGO
END:VEVENT
BEGIN:VEVENT
DTSTART;VALUE=DATE:20250617
DTEND;VALUE=DATE:20250618
DTSTAMP:20260425T210314
CREATED:20230620T140423Z
LAST-MODIFIED:20230620T140423Z
UID:10002569-1750118400-1750204799@www.winnavegas.com
SUMMARY:BINGO CLOSED
DESCRIPTION:
URL:https://www.winnavegas.com/event/bingo-closed-3/2025-06-17/
LOCATION:IA
CATEGORIES:BINGO
END:VEVENT
BEGIN:VEVENT
DTSTART;TZID=America/Chicago:20250618T170000
DTEND;TZID=America/Chicago:20250618T220000
DTSTAMP:20260425T210315
CREATED:20230620T135814Z
LAST-MODIFIED:20230620T140027Z
UID:10002138-1750266000-1750284000@www.winnavegas.com
SUMMARY:Half Price Night (On Paper 12-Packs Only)
DESCRIPTION:
URL:https://www.winnavegas.com/event/half-price-night-on-paper-12-packs-only/2025-06-18/
LOCATION:IA
CATEGORIES:BINGO
END:VEVENT
BEGIN:VEVENT
DTSTART;TZID=America/Chicago:20250620T170000
DTEND;TZID=America/Chicago:20250620T220000
DTSTAMP:20260425T210315
CREATED:20230620T140239Z
LAST-MODIFIED:20250725T205736Z
UID:10001900-1750438800-1750456800@www.winnavegas.com
SUMMARY:Double Payout
DESCRIPTION:
URL:https://www.winnavegas.com/event/double-payout-12/2025-06-20/
LOCATION:IA
CATEGORIES:BINGO
END:VEVENT
BEGIN:VEVENT
DTSTART;TZID=America/Chicago:20250621T170000
DTEND;TZID=America/Chicago:20250621T220000
DTSTAMP:20260425T210315
CREATED:20230620T140239Z
LAST-MODIFIED:20250725T205736Z
UID:10001901-1750525200-1750543200@www.winnavegas.com
SUMMARY:Double Payout
DESCRIPTION:
URL:https://www.winnavegas.com/event/double-payout-12/2025-06-21/
LOCATION:IA
CATEGORIES:BINGO
END:VEVENT
BEGIN:VEVENT
DTSTART;TZID=America/Chicago:20250622T170000
DTEND;TZID=America/Chicago:20250622T220000
DTSTAMP:20260425T210315
CREATED:20230620T140345Z
LAST-MODIFIED:20230620T140345Z
UID:10002301-1750611600-1750629600@www.winnavegas.com
SUMMARY:Side Pack Sunday
DESCRIPTION:
URL:https://www.winnavegas.com/event/side-pack-sunday-2/2025-06-22/
LOCATION:IA
CATEGORIES:BINGO
END:VEVENT
BEGIN:VEVENT
DTSTART;VALUE=DATE:20250623
DTEND;VALUE=DATE:20250624
DTSTAMP:20260425T210315
CREATED:20230620T140423Z
LAST-MODIFIED:20230620T140423Z
UID:10002570-1750636800-1750723199@www.winnavegas.com
SUMMARY:BINGO CLOSED
DESCRIPTION:
URL:https://www.winnavegas.com/event/bingo-closed-3/2025-06-23/
LOCATION:IA
CATEGORIES:BINGO
END:VEVENT
BEGIN:VEVENT
DTSTART;VALUE=DATE:20250624
DTEND;VALUE=DATE:20250625
DTSTAMP:20260425T210315
CREATED:20230620T140423Z
LAST-MODIFIED:20230620T140423Z
UID:10002571-1750723200-1750809599@www.winnavegas.com
SUMMARY:BINGO CLOSED
DESCRIPTION:
URL:https://www.winnavegas.com/event/bingo-closed-3/2025-06-24/
LOCATION:IA
CATEGORIES:BINGO
END:VEVENT
BEGIN:VEVENT
DTSTART;TZID=America/Chicago:20250625T170000
DTEND;TZID=America/Chicago:20250625T220000
DTSTAMP:20260425T210315
CREATED:20230620T135814Z
LAST-MODIFIED:20230620T140027Z
UID:10002139-1750870800-1750888800@www.winnavegas.com
SUMMARY:Half Price Night (On Paper 12-Packs Only)
DESCRIPTION:
URL:https://www.winnavegas.com/event/half-price-night-on-paper-12-packs-only/2025-06-25/
LOCATION:IA
CATEGORIES:BINGO
END:VEVENT
BEGIN:VEVENT
DTSTART;TZID=America/Chicago:20250627T170000
DTEND;TZID=America/Chicago:20250627T220000
DTSTAMP:20260425T210315
CREATED:20230620T140239Z
LAST-MODIFIED:20250725T205736Z
UID:10001902-1751043600-1751061600@www.winnavegas.com
SUMMARY:Double Payout
DESCRIPTION:
URL:https://www.winnavegas.com/event/double-payout-12/2025-06-27/
LOCATION:IA
CATEGORIES:BINGO
END:VEVENT
BEGIN:VEVENT
DTSTART;TZID=America/Chicago:20250628T170000
DTEND;TZID=America/Chicago:20250628T220000
DTSTAMP:20260425T210315
CREATED:20230620T140239Z
LAST-MODIFIED:20250725T205736Z
UID:10001903-1751130000-1751148000@www.winnavegas.com
SUMMARY:Double Payout
DESCRIPTION:
URL:https://www.winnavegas.com/event/double-payout-12/2025-06-28/
LOCATION:IA
CATEGORIES:BINGO
END:VEVENT
BEGIN:VEVENT
DTSTART;TZID=America/Chicago:20250629T170000
DTEND;TZID=America/Chicago:20250629T220000
DTSTAMP:20260425T210315
CREATED:20230620T140345Z
LAST-MODIFIED:20230620T140345Z
UID:10002302-1751216400-1751234400@www.winnavegas.com
SUMMARY:Side Pack Sunday
DESCRIPTION:
URL:https://www.winnavegas.com/event/side-pack-sunday-2/2025-06-29/
LOCATION:IA
CATEGORIES:BINGO
END:VEVENT
BEGIN:VEVENT
DTSTART;VALUE=DATE:20250630
DTEND;VALUE=DATE:20250701
DTSTAMP:20260425T210315
CREATED:20230620T140423Z
LAST-MODIFIED:20230620T140423Z
UID:10002572-1751241600-1751327999@www.winnavegas.com
SUMMARY:BINGO CLOSED
DESCRIPTION:
URL:https://www.winnavegas.com/event/bingo-closed-3/2025-06-30/
LOCATION:IA
CATEGORIES:BINGO
END:VEVENT
END:VCALENDAR