BEGIN:VCALENDAR
VERSION:2.0
PRODID:-//WinnaVegas - ECPv6.5.2//NONSGML v1.0//EN
CALSCALE:GREGORIAN
METHOD:PUBLISH
X-ORIGINAL-URL:https://www.winnavegas.com
X-WR-CALDESC:Events for WinnaVegas
REFRESH-INTERVAL;VALUE=DURATION:PT1H
X-Robots-Tag:noindex
X-PUBLISHED-TTL:PT1H
BEGIN:VTIMEZONE
TZID:America/Chicago
BEGIN:DAYLIGHT
TZOFFSETFROM:-0600
TZOFFSETTO:-0500
TZNAME:CDT
DTSTART:20250309T080000
END:DAYLIGHT
BEGIN:STANDARD
TZOFFSETFROM:-0500
TZOFFSETTO:-0600
TZNAME:CST
DTSTART:20251102T070000
END:STANDARD
END:VTIMEZONE
BEGIN:VEVENT
DTSTART;VALUE=DATE:20250701
DTEND;VALUE=DATE:20250702
DTSTAMP:20260425T222234
CREATED:20230620T140423Z
LAST-MODIFIED:20230620T140423Z
UID:10002573-1751328000-1751414399@www.winnavegas.com
SUMMARY:BINGO CLOSED
DESCRIPTION:
URL:https://www.winnavegas.com/event/bingo-closed-3/2025-07-01/
LOCATION:IA
CATEGORIES:BINGO
END:VEVENT
BEGIN:VEVENT
DTSTART;TZID=America/Chicago:20250702T170000
DTEND;TZID=America/Chicago:20250702T220000
DTSTAMP:20260425T222235
CREATED:20230620T135814Z
LAST-MODIFIED:20230620T140027Z
UID:10002140-1751475600-1751493600@www.winnavegas.com
SUMMARY:Half Price Night (On Paper 12-Packs Only)
DESCRIPTION:
URL:https://www.winnavegas.com/event/half-price-night-on-paper-12-packs-only/2025-07-02/
LOCATION:IA
CATEGORIES:BINGO
END:VEVENT
BEGIN:VEVENT
DTSTART;TZID=America/Chicago:20250704T170000
DTEND;TZID=America/Chicago:20250704T220000
DTSTAMP:20260425T222235
CREATED:20230620T140239Z
LAST-MODIFIED:20250725T205736Z
UID:10001904-1751648400-1751666400@www.winnavegas.com
SUMMARY:Double Payout
DESCRIPTION:
URL:https://www.winnavegas.com/event/double-payout-12/2025-07-04/
LOCATION:IA
CATEGORIES:BINGO
END:VEVENT
BEGIN:VEVENT
DTSTART;TZID=America/Chicago:20250705T170000
DTEND;TZID=America/Chicago:20250705T220000
DTSTAMP:20260425T222235
CREATED:20230620T140239Z
LAST-MODIFIED:20250725T205736Z
UID:10001905-1751734800-1751752800@www.winnavegas.com
SUMMARY:Double Payout
DESCRIPTION:
URL:https://www.winnavegas.com/event/double-payout-12/2025-07-05/
LOCATION:IA
CATEGORIES:BINGO
END:VEVENT
BEGIN:VEVENT
DTSTART;TZID=America/Chicago:20250706T170000
DTEND;TZID=America/Chicago:20250706T220000
DTSTAMP:20260425T222235
CREATED:20230620T140345Z
LAST-MODIFIED:20230620T140345Z
UID:10002303-1751821200-1751839200@www.winnavegas.com
SUMMARY:Side Pack Sunday
DESCRIPTION:
URL:https://www.winnavegas.com/event/side-pack-sunday-2/2025-07-06/
LOCATION:IA
CATEGORIES:BINGO
END:VEVENT
BEGIN:VEVENT
DTSTART;VALUE=DATE:20250707
DTEND;VALUE=DATE:20250708
DTSTAMP:20260425T222235
CREATED:20230620T140423Z
LAST-MODIFIED:20230620T140423Z
UID:10002574-1751846400-1751932799@www.winnavegas.com
SUMMARY:BINGO CLOSED
DESCRIPTION:
URL:https://www.winnavegas.com/event/bingo-closed-3/2025-07-07/
LOCATION:IA
CATEGORIES:BINGO
END:VEVENT
BEGIN:VEVENT
DTSTART;VALUE=DATE:20250708
DTEND;VALUE=DATE:20250709
DTSTAMP:20260425T222235
CREATED:20230620T140423Z
LAST-MODIFIED:20230620T140423Z
UID:10002575-1751932800-1752019199@www.winnavegas.com
SUMMARY:BINGO CLOSED
DESCRIPTION:
URL:https://www.winnavegas.com/event/bingo-closed-3/2025-07-08/
LOCATION:IA
CATEGORIES:BINGO
END:VEVENT
BEGIN:VEVENT
DTSTART;TZID=America/Chicago:20250709T170000
DTEND;TZID=America/Chicago:20250709T220000
DTSTAMP:20260425T222235
CREATED:20230620T135814Z
LAST-MODIFIED:20230620T140027Z
UID:10002141-1752080400-1752098400@www.winnavegas.com
SUMMARY:Half Price Night (On Paper 12-Packs Only)
DESCRIPTION:
URL:https://www.winnavegas.com/event/half-price-night-on-paper-12-packs-only/2025-07-09/
LOCATION:IA
CATEGORIES:BINGO
END:VEVENT
BEGIN:VEVENT
DTSTART;TZID=America/Chicago:20250711T170000
DTEND;TZID=America/Chicago:20250711T220000
DTSTAMP:20260425T222235
CREATED:20230620T140239Z
LAST-MODIFIED:20250725T205736Z
UID:10001906-1752253200-1752271200@www.winnavegas.com
SUMMARY:Double Payout
DESCRIPTION:
URL:https://www.winnavegas.com/event/double-payout-12/2025-07-11/
LOCATION:IA
CATEGORIES:BINGO
END:VEVENT
BEGIN:VEVENT
DTSTART;TZID=America/Chicago:20250712T170000
DTEND;TZID=America/Chicago:20250712T220000
DTSTAMP:20260425T222235
CREATED:20230620T140239Z
LAST-MODIFIED:20250725T205736Z
UID:10001907-1752339600-1752357600@www.winnavegas.com
SUMMARY:Double Payout
DESCRIPTION:
URL:https://www.winnavegas.com/event/double-payout-12/2025-07-12/
LOCATION:IA
CATEGORIES:BINGO
END:VEVENT
BEGIN:VEVENT
DTSTART;TZID=America/Chicago:20250713T170000
DTEND;TZID=America/Chicago:20250713T220000
DTSTAMP:20260425T222235
CREATED:20230620T140345Z
LAST-MODIFIED:20230620T140345Z
UID:10002304-1752426000-1752444000@www.winnavegas.com
SUMMARY:Side Pack Sunday
DESCRIPTION:
URL:https://www.winnavegas.com/event/side-pack-sunday-2/2025-07-13/
LOCATION:IA
CATEGORIES:BINGO
END:VEVENT
BEGIN:VEVENT
DTSTART;VALUE=DATE:20250714
DTEND;VALUE=DATE:20250715
DTSTAMP:20260425T222235
CREATED:20230620T140423Z
LAST-MODIFIED:20230620T140423Z
UID:10002576-1752451200-1752537599@www.winnavegas.com
SUMMARY:BINGO CLOSED
DESCRIPTION:
URL:https://www.winnavegas.com/event/bingo-closed-3/2025-07-14/
LOCATION:IA
CATEGORIES:BINGO
END:VEVENT
BEGIN:VEVENT
DTSTART;VALUE=DATE:20250715
DTEND;VALUE=DATE:20250716
DTSTAMP:20260425T222235
CREATED:20230620T140423Z
LAST-MODIFIED:20230620T140423Z
UID:10002577-1752537600-1752623999@www.winnavegas.com
SUMMARY:BINGO CLOSED
DESCRIPTION:
URL:https://www.winnavegas.com/event/bingo-closed-3/2025-07-15/
LOCATION:IA
CATEGORIES:BINGO
END:VEVENT
BEGIN:VEVENT
DTSTART;TZID=America/Chicago:20250716T170000
DTEND;TZID=America/Chicago:20250716T220000
DTSTAMP:20260425T222235
CREATED:20230620T135814Z
LAST-MODIFIED:20230620T140027Z
UID:10002142-1752685200-1752703200@www.winnavegas.com
SUMMARY:Half Price Night (On Paper 12-Packs Only)
DESCRIPTION:
URL:https://www.winnavegas.com/event/half-price-night-on-paper-12-packs-only/2025-07-16/
LOCATION:IA
CATEGORIES:BINGO
END:VEVENT
BEGIN:VEVENT
DTSTART;TZID=America/Chicago:20250718T170000
DTEND;TZID=America/Chicago:20250718T220000
DTSTAMP:20260425T222235
CREATED:20230620T140239Z
LAST-MODIFIED:20250725T205736Z
UID:10001908-1752858000-1752876000@www.winnavegas.com
SUMMARY:Double Payout
DESCRIPTION:
URL:https://www.winnavegas.com/event/double-payout-12/2025-07-18/
LOCATION:IA
CATEGORIES:BINGO
END:VEVENT
BEGIN:VEVENT
DTSTART;TZID=America/Chicago:20250719T170000
DTEND;TZID=America/Chicago:20250719T220000
DTSTAMP:20260425T222235
CREATED:20230620T140239Z
LAST-MODIFIED:20250725T205736Z
UID:10001909-1752944400-1752962400@www.winnavegas.com
SUMMARY:Double Payout
DESCRIPTION:
URL:https://www.winnavegas.com/event/double-payout-12/2025-07-19/
LOCATION:IA
CATEGORIES:BINGO
END:VEVENT
BEGIN:VEVENT
DTSTART;TZID=America/Chicago:20250720T170000
DTEND;TZID=America/Chicago:20250720T220000
DTSTAMP:20260425T222235
CREATED:20230620T140345Z
LAST-MODIFIED:20230620T140345Z
UID:10002305-1753030800-1753048800@www.winnavegas.com
SUMMARY:Side Pack Sunday
DESCRIPTION:
URL:https://www.winnavegas.com/event/side-pack-sunday-2/2025-07-20/
LOCATION:IA
CATEGORIES:BINGO
END:VEVENT
BEGIN:VEVENT
DTSTART;VALUE=DATE:20250721
DTEND;VALUE=DATE:20250722
DTSTAMP:20260425T222235
CREATED:20230620T140423Z
LAST-MODIFIED:20230620T140423Z
UID:10002578-1753056000-1753142399@www.winnavegas.com
SUMMARY:BINGO CLOSED
DESCRIPTION:
URL:https://www.winnavegas.com/event/bingo-closed-3/2025-07-21/
LOCATION:IA
CATEGORIES:BINGO
END:VEVENT
BEGIN:VEVENT
DTSTART;VALUE=DATE:20250722
DTEND;VALUE=DATE:20250723
DTSTAMP:20260425T222235
CREATED:20230620T140423Z
LAST-MODIFIED:20230620T140423Z
UID:10002579-1753142400-1753228799@www.winnavegas.com
SUMMARY:BINGO CLOSED
DESCRIPTION:
URL:https://www.winnavegas.com/event/bingo-closed-3/2025-07-22/
LOCATION:IA
CATEGORIES:BINGO
END:VEVENT
BEGIN:VEVENT
DTSTART;TZID=America/Chicago:20250723T170000
DTEND;TZID=America/Chicago:20250723T220000
DTSTAMP:20260425T222235
CREATED:20230620T135814Z
LAST-MODIFIED:20230620T140027Z
UID:10002143-1753290000-1753308000@www.winnavegas.com
SUMMARY:Half Price Night (On Paper 12-Packs Only)
DESCRIPTION:
URL:https://www.winnavegas.com/event/half-price-night-on-paper-12-packs-only/2025-07-23/
LOCATION:IA
CATEGORIES:BINGO
END:VEVENT
BEGIN:VEVENT
DTSTART;TZID=America/Chicago:20250725T170000
DTEND;TZID=America/Chicago:20250725T220000
DTSTAMP:20260425T222235
CREATED:20230620T140239Z
LAST-MODIFIED:20250725T205736Z
UID:10001910-1753462800-1753480800@www.winnavegas.com
SUMMARY:Double Payout
DESCRIPTION:
URL:https://www.winnavegas.com/event/double-payout-12/2025-07-25/
LOCATION:IA
CATEGORIES:BINGO
END:VEVENT
BEGIN:VEVENT
DTSTART;TZID=America/Chicago:20250726T170000
DTEND;TZID=America/Chicago:20250726T220000
DTSTAMP:20260425T222235
CREATED:20230620T140239Z
LAST-MODIFIED:20250725T205736Z
UID:10001911-1753549200-1753567200@www.winnavegas.com
SUMMARY:Double Payout
DESCRIPTION:
URL:https://www.winnavegas.com/event/double-payout-12/2025-07-26/
LOCATION:IA
CATEGORIES:BINGO
END:VEVENT
BEGIN:VEVENT
DTSTART;TZID=America/Chicago:20250727T170000
DTEND;TZID=America/Chicago:20250727T220000
DTSTAMP:20260425T222235
CREATED:20230620T140345Z
LAST-MODIFIED:20230620T140345Z
UID:10002306-1753635600-1753653600@www.winnavegas.com
SUMMARY:Side Pack Sunday
DESCRIPTION:
URL:https://www.winnavegas.com/event/side-pack-sunday-2/2025-07-27/
LOCATION:IA
CATEGORIES:BINGO
END:VEVENT
BEGIN:VEVENT
DTSTART;VALUE=DATE:20250728
DTEND;VALUE=DATE:20250729
DTSTAMP:20260425T222235
CREATED:20230620T140423Z
LAST-MODIFIED:20230620T140423Z
UID:10002580-1753660800-1753747199@www.winnavegas.com
SUMMARY:BINGO CLOSED
DESCRIPTION:
URL:https://www.winnavegas.com/event/bingo-closed-3/2025-07-28/
LOCATION:IA
CATEGORIES:BINGO
END:VEVENT
BEGIN:VEVENT
DTSTART;VALUE=DATE:20250729
DTEND;VALUE=DATE:20250730
DTSTAMP:20260425T222235
CREATED:20230620T140423Z
LAST-MODIFIED:20230620T140423Z
UID:10002581-1753747200-1753833599@www.winnavegas.com
SUMMARY:BINGO CLOSED
DESCRIPTION:
URL:https://www.winnavegas.com/event/bingo-closed-3/2025-07-29/
LOCATION:IA
CATEGORIES:BINGO
END:VEVENT
BEGIN:VEVENT
DTSTART;TZID=America/Chicago:20250730T170000
DTEND;TZID=America/Chicago:20250730T220000
DTSTAMP:20260425T222235
CREATED:20230620T135814Z
LAST-MODIFIED:20230620T140027Z
UID:10002144-1753894800-1753912800@www.winnavegas.com
SUMMARY:Half Price Night (On Paper 12-Packs Only)
DESCRIPTION:
URL:https://www.winnavegas.com/event/half-price-night-on-paper-12-packs-only/2025-07-30/
LOCATION:IA
CATEGORIES:BINGO
END:VEVENT
END:VCALENDAR