BEGIN:VCALENDAR
VERSION:2.0
PRODID:-//WinnaVegas - ECPv6.5.2//NONSGML v1.0//EN
CALSCALE:GREGORIAN
METHOD:PUBLISH
X-ORIGINAL-URL:https://www.winnavegas.com
X-WR-CALDESC:Events for WinnaVegas
REFRESH-INTERVAL;VALUE=DURATION:PT1H
X-Robots-Tag:noindex
X-PUBLISHED-TTL:PT1H
BEGIN:VTIMEZONE
TZID:America/Chicago
BEGIN:DAYLIGHT
TZOFFSETFROM:-0600
TZOFFSETTO:-0500
TZNAME:CDT
DTSTART:20250309T080000
END:DAYLIGHT
BEGIN:STANDARD
TZOFFSETFROM:-0500
TZOFFSETTO:-0600
TZNAME:CST
DTSTART:20251102T070000
END:STANDARD
END:VTIMEZONE
BEGIN:VEVENT
DTSTART;TZID=America/Chicago:20250801T170000
DTEND;TZID=America/Chicago:20250801T220000
DTSTAMP:20260425T233715
CREATED:20230620T140239Z
LAST-MODIFIED:20250725T205736Z
UID:10001912-1754067600-1754085600@www.winnavegas.com
SUMMARY:Double Payout
DESCRIPTION:
URL:https://www.winnavegas.com/event/double-payout-12/2025-08-01/
LOCATION:IA
CATEGORIES:BINGO
END:VEVENT
BEGIN:VEVENT
DTSTART;TZID=America/Chicago:20250802T170000
DTEND;TZID=America/Chicago:20250802T220000
DTSTAMP:20260425T233715
CREATED:20230620T140239Z
LAST-MODIFIED:20250725T205736Z
UID:10001913-1754154000-1754172000@www.winnavegas.com
SUMMARY:Double Payout
DESCRIPTION:
URL:https://www.winnavegas.com/event/double-payout-12/2025-08-02/
LOCATION:IA
CATEGORIES:BINGO
END:VEVENT
BEGIN:VEVENT
DTSTART;TZID=America/Chicago:20250803T170000
DTEND;TZID=America/Chicago:20250803T220000
DTSTAMP:20260425T233715
CREATED:20230620T140345Z
LAST-MODIFIED:20230620T140345Z
UID:10002307-1754240400-1754258400@www.winnavegas.com
SUMMARY:Side Pack Sunday
DESCRIPTION:
URL:https://www.winnavegas.com/event/side-pack-sunday-2/2025-08-03/
LOCATION:IA
CATEGORIES:BINGO
END:VEVENT
BEGIN:VEVENT
DTSTART;VALUE=DATE:20250804
DTEND;VALUE=DATE:20250805
DTSTAMP:20260425T233715
CREATED:20230620T140423Z
LAST-MODIFIED:20230620T140423Z
UID:10002582-1754265600-1754351999@www.winnavegas.com
SUMMARY:BINGO CLOSED
DESCRIPTION:
URL:https://www.winnavegas.com/event/bingo-closed-3/2025-08-04/
LOCATION:IA
CATEGORIES:BINGO
END:VEVENT
BEGIN:VEVENT
DTSTART;VALUE=DATE:20250805
DTEND;VALUE=DATE:20250806
DTSTAMP:20260425T233715
CREATED:20230620T140423Z
LAST-MODIFIED:20230620T140423Z
UID:10002583-1754352000-1754438399@www.winnavegas.com
SUMMARY:BINGO CLOSED
DESCRIPTION:
URL:https://www.winnavegas.com/event/bingo-closed-3/2025-08-05/
LOCATION:IA
CATEGORIES:BINGO
END:VEVENT
BEGIN:VEVENT
DTSTART;TZID=America/Chicago:20250806T170000
DTEND;TZID=America/Chicago:20250806T220000
DTSTAMP:20260425T233715
CREATED:20230620T135814Z
LAST-MODIFIED:20230620T140027Z
UID:10002145-1754499600-1754517600@www.winnavegas.com
SUMMARY:Half Price Night (On Paper 12-Packs Only)
DESCRIPTION:
URL:https://www.winnavegas.com/event/half-price-night-on-paper-12-packs-only/2025-08-06/
LOCATION:IA
CATEGORIES:BINGO
END:VEVENT
BEGIN:VEVENT
DTSTART;TZID=America/Chicago:20250807T030000
DTEND;TZID=America/Chicago:20250807T220000
DTSTAMP:20260425T233715
CREATED:20250808T033505Z
LAST-MODIFIED:20250808T033859Z
UID:10005755-1754535600-1754604000@www.winnavegas.com
SUMMARY:Ladies Night
DESCRIPTION:Must purchase a special pack\, and hot ball\, for a free level 1 buy-in.
URL:https://www.winnavegas.com/event/ladies-night-8/
LOCATION:WinnaVegas Casino\, 1500 330th Street\, Sloan\, IA\, 51055\, United States
CATEGORIES:BINGO
END:VEVENT
BEGIN:VEVENT
DTSTART;TZID=America/Chicago:20250808T170000
DTEND;TZID=America/Chicago:20250808T220000
DTSTAMP:20260425T233715
CREATED:20230620T140239Z
LAST-MODIFIED:20250725T205736Z
UID:10001914-1754672400-1754690400@www.winnavegas.com
SUMMARY:Double Payout
DESCRIPTION:
URL:https://www.winnavegas.com/event/double-payout-12/2025-08-08/
LOCATION:IA
CATEGORIES:BINGO
END:VEVENT
BEGIN:VEVENT
DTSTART;TZID=America/Chicago:20250809T170000
DTEND;TZID=America/Chicago:20250809T220000
DTSTAMP:20260425T233715
CREATED:20230620T140239Z
LAST-MODIFIED:20250725T205736Z
UID:10001915-1754758800-1754776800@www.winnavegas.com
SUMMARY:Double Payout
DESCRIPTION:
URL:https://www.winnavegas.com/event/double-payout-12/2025-08-09/
LOCATION:IA
CATEGORIES:BINGO
END:VEVENT
BEGIN:VEVENT
DTSTART;TZID=America/Chicago:20250810T170000
DTEND;TZID=America/Chicago:20250810T220000
DTSTAMP:20260425T233715
CREATED:20230620T140345Z
LAST-MODIFIED:20230620T140345Z
UID:10002308-1754845200-1754863200@www.winnavegas.com
SUMMARY:Side Pack Sunday
DESCRIPTION:
URL:https://www.winnavegas.com/event/side-pack-sunday-2/2025-08-10/
LOCATION:IA
CATEGORIES:BINGO
END:VEVENT
BEGIN:VEVENT
DTSTART;VALUE=DATE:20250811
DTEND;VALUE=DATE:20250812
DTSTAMP:20260425T233715
CREATED:20230620T140423Z
LAST-MODIFIED:20230620T140423Z
UID:10002584-1754870400-1754956799@www.winnavegas.com
SUMMARY:BINGO CLOSED
DESCRIPTION:
URL:https://www.winnavegas.com/event/bingo-closed-3/2025-08-11/
LOCATION:IA
CATEGORIES:BINGO
END:VEVENT
BEGIN:VEVENT
DTSTART;VALUE=DATE:20250812
DTEND;VALUE=DATE:20250813
DTSTAMP:20260425T233715
CREATED:20230620T140423Z
LAST-MODIFIED:20230620T140423Z
UID:10002585-1754956800-1755043199@www.winnavegas.com
SUMMARY:BINGO CLOSED
DESCRIPTION:
URL:https://www.winnavegas.com/event/bingo-closed-3/2025-08-12/
LOCATION:IA
CATEGORIES:BINGO
END:VEVENT
BEGIN:VEVENT
DTSTART;TZID=America/Chicago:20250813T170000
DTEND;TZID=America/Chicago:20250813T220000
DTSTAMP:20260425T233715
CREATED:20230620T135814Z
LAST-MODIFIED:20230620T140027Z
UID:10002146-1755104400-1755122400@www.winnavegas.com
SUMMARY:Half Price Night (On Paper 12-Packs Only)
DESCRIPTION:
URL:https://www.winnavegas.com/event/half-price-night-on-paper-12-packs-only/2025-08-13/
LOCATION:IA
CATEGORIES:BINGO
END:VEVENT
BEGIN:VEVENT
DTSTART;TZID=America/Chicago:20250815T170000
DTEND;TZID=America/Chicago:20250815T220000
DTSTAMP:20260425T233715
CREATED:20230620T140239Z
LAST-MODIFIED:20250725T205736Z
UID:10001916-1755277200-1755295200@www.winnavegas.com
SUMMARY:Double Payout
DESCRIPTION:
URL:https://www.winnavegas.com/event/double-payout-12/2025-08-15/
LOCATION:IA
CATEGORIES:BINGO
END:VEVENT
BEGIN:VEVENT
DTSTART;TZID=America/Chicago:20250817T170000
DTEND;TZID=America/Chicago:20250817T220000
DTSTAMP:20260425T233715
CREATED:20230620T140345Z
LAST-MODIFIED:20230620T140345Z
UID:10002309-1755450000-1755468000@www.winnavegas.com
SUMMARY:Side Pack Sunday
DESCRIPTION:
URL:https://www.winnavegas.com/event/side-pack-sunday-2/2025-08-17/
LOCATION:IA
CATEGORIES:BINGO
END:VEVENT
BEGIN:VEVENT
DTSTART;VALUE=DATE:20250818
DTEND;VALUE=DATE:20250819
DTSTAMP:20260425T233715
CREATED:20230620T140423Z
LAST-MODIFIED:20230620T140423Z
UID:10002586-1755475200-1755561599@www.winnavegas.com
SUMMARY:BINGO CLOSED
DESCRIPTION:
URL:https://www.winnavegas.com/event/bingo-closed-3/2025-08-18/
LOCATION:IA
CATEGORIES:BINGO
END:VEVENT
BEGIN:VEVENT
DTSTART;VALUE=DATE:20250819
DTEND;VALUE=DATE:20250820
DTSTAMP:20260425T233715
CREATED:20230620T140423Z
LAST-MODIFIED:20230620T140423Z
UID:10002587-1755561600-1755647999@www.winnavegas.com
SUMMARY:BINGO CLOSED
DESCRIPTION:
URL:https://www.winnavegas.com/event/bingo-closed-3/2025-08-19/
LOCATION:IA
CATEGORIES:BINGO
END:VEVENT
BEGIN:VEVENT
DTSTART;TZID=America/Chicago:20250820T170000
DTEND;TZID=America/Chicago:20250820T220000
DTSTAMP:20260425T233715
CREATED:20230620T135814Z
LAST-MODIFIED:20230620T140027Z
UID:10002147-1755709200-1755727200@www.winnavegas.com
SUMMARY:Half Price Night (On Paper 12-Packs Only)
DESCRIPTION:
URL:https://www.winnavegas.com/event/half-price-night-on-paper-12-packs-only/2025-08-20/
LOCATION:IA
CATEGORIES:BINGO
END:VEVENT
BEGIN:VEVENT
DTSTART;TZID=America/Chicago:20250822T170000
DTEND;TZID=America/Chicago:20250822T220000
DTSTAMP:20260425T233715
CREATED:20230620T140239Z
LAST-MODIFIED:20250725T205736Z
UID:10001918-1755882000-1755900000@www.winnavegas.com
SUMMARY:Double Payout
DESCRIPTION:
URL:https://www.winnavegas.com/event/double-payout-12/2025-08-22/
LOCATION:IA
CATEGORIES:BINGO
END:VEVENT
BEGIN:VEVENT
DTSTART;TZID=America/Chicago:20250823T170000
DTEND;TZID=America/Chicago:20250823T220000
DTSTAMP:20260425T233715
CREATED:20230620T140239Z
LAST-MODIFIED:20250725T205736Z
UID:10001919-1755968400-1755986400@www.winnavegas.com
SUMMARY:Double Payout
DESCRIPTION:
URL:https://www.winnavegas.com/event/double-payout-12/2025-08-23/
LOCATION:IA
CATEGORIES:BINGO
END:VEVENT
BEGIN:VEVENT
DTSTART;TZID=America/Chicago:20250824T170000
DTEND;TZID=America/Chicago:20250824T220000
DTSTAMP:20260425T233715
CREATED:20230620T140345Z
LAST-MODIFIED:20230620T140345Z
UID:10002310-1756054800-1756072800@www.winnavegas.com
SUMMARY:Side Pack Sunday
DESCRIPTION:
URL:https://www.winnavegas.com/event/side-pack-sunday-2/2025-08-24/
LOCATION:IA
CATEGORIES:BINGO
END:VEVENT
BEGIN:VEVENT
DTSTART;VALUE=DATE:20250825
DTEND;VALUE=DATE:20250826
DTSTAMP:20260425T233715
CREATED:20230620T140423Z
LAST-MODIFIED:20230620T140423Z
UID:10002588-1756080000-1756166399@www.winnavegas.com
SUMMARY:BINGO CLOSED
DESCRIPTION:
URL:https://www.winnavegas.com/event/bingo-closed-3/2025-08-25/
LOCATION:IA
CATEGORIES:BINGO
END:VEVENT
BEGIN:VEVENT
DTSTART;VALUE=DATE:20250826
DTEND;VALUE=DATE:20250827
DTSTAMP:20260425T233715
CREATED:20230620T140423Z
LAST-MODIFIED:20230620T140423Z
UID:10002589-1756166400-1756252799@www.winnavegas.com
SUMMARY:BINGO CLOSED
DESCRIPTION:
URL:https://www.winnavegas.com/event/bingo-closed-3/2025-08-26/
LOCATION:IA
CATEGORIES:BINGO
END:VEVENT
BEGIN:VEVENT
DTSTART;TZID=America/Chicago:20250827T170000
DTEND;TZID=America/Chicago:20250827T220000
DTSTAMP:20260425T233715
CREATED:20230620T135814Z
LAST-MODIFIED:20230620T140027Z
UID:10002148-1756314000-1756332000@www.winnavegas.com
SUMMARY:Half Price Night (On Paper 12-Packs Only)
DESCRIPTION:
URL:https://www.winnavegas.com/event/half-price-night-on-paper-12-packs-only/2025-08-27/
LOCATION:IA
CATEGORIES:BINGO
END:VEVENT
BEGIN:VEVENT
DTSTART;TZID=America/Chicago:20250829T170000
DTEND;TZID=America/Chicago:20250829T220000
DTSTAMP:20260425T233715
CREATED:20230620T140239Z
LAST-MODIFIED:20250725T205736Z
UID:10001920-1756486800-1756504800@www.winnavegas.com
SUMMARY:Double Payout
DESCRIPTION:
URL:https://www.winnavegas.com/event/double-payout-12/2025-08-29/
LOCATION:IA
CATEGORIES:BINGO
END:VEVENT
BEGIN:VEVENT
DTSTART;TZID=America/Chicago:20250830T170000
DTEND;TZID=America/Chicago:20250830T220000
DTSTAMP:20260425T233715
CREATED:20230620T140239Z
LAST-MODIFIED:20250725T205736Z
UID:10001921-1756573200-1756591200@www.winnavegas.com
SUMMARY:Double Payout
DESCRIPTION:
URL:https://www.winnavegas.com/event/double-payout-12/2025-08-30/
LOCATION:IA
CATEGORIES:BINGO
END:VEVENT
BEGIN:VEVENT
DTSTART;TZID=America/Chicago:20250831T170000
DTEND;TZID=America/Chicago:20250831T220000
DTSTAMP:20260425T233715
CREATED:20230620T140345Z
LAST-MODIFIED:20230620T140345Z
UID:10002311-1756659600-1756677600@www.winnavegas.com
SUMMARY:Side Pack Sunday
DESCRIPTION:
URL:https://www.winnavegas.com/event/side-pack-sunday-2/2025-08-31/
LOCATION:IA
CATEGORIES:BINGO
END:VEVENT
END:VCALENDAR