BEGIN:VCALENDAR
VERSION:2.0
PRODID:-//WinnaVegas - ECPv6.5.2//NONSGML v1.0//EN
CALSCALE:GREGORIAN
METHOD:PUBLISH
X-ORIGINAL-URL:https://www.winnavegas.com
X-WR-CALDESC:Events for WinnaVegas
REFRESH-INTERVAL;VALUE=DURATION:PT1H
X-Robots-Tag:noindex
X-PUBLISHED-TTL:PT1H
BEGIN:VTIMEZONE
TZID:America/Chicago
BEGIN:DAYLIGHT
TZOFFSETFROM:-0600
TZOFFSETTO:-0500
TZNAME:CDT
DTSTART:20260308T080000
END:DAYLIGHT
BEGIN:STANDARD
TZOFFSETFROM:-0500
TZOFFSETTO:-0600
TZNAME:CST
DTSTART:20261101T070000
END:STANDARD
END:VTIMEZONE
BEGIN:VEVENT
DTSTART;TZID=America/Chicago:20260505T080000
DTEND;TZID=America/Chicago:20260505T233000
DTSTAMP:20260425T080130
CREATED:20260424T195819Z
LAST-MODIFIED:20260424T195819Z
UID:10006430-1777968000-1778023800@www.winnavegas.com
SUMMARY:Tut's Treasures Kiosk Game
DESCRIPTION:Earn 30 same-day points to play the kiosk game. Everyone is guaranteed to win Promo Play!
URL:https://www.winnavegas.com/event/tuts-treasures-kiosk-game/2026-05-05/
LOCATION:WinnaVegas Casino\, 1500 330th Street\, Sloan\, IA\, 51055\, United States
CATEGORIES:Promotions
ATTACH;FMTTYPE=image/jpeg:https://www.winnavegas.com/wp-content/uploads/2026/04/May26TutsTreasures-PROMO.jpg
END:VEVENT
BEGIN:VEVENT
DTSTART;TZID=America/Chicago:20260507T080000
DTEND;TZID=America/Chicago:20260507T233000
DTSTAMP:20260425T080130
CREATED:20260424T195819Z
LAST-MODIFIED:20260424T195819Z
UID:10006431-1778140800-1778196600@www.winnavegas.com
SUMMARY:Tut's Treasures Kiosk Game
DESCRIPTION:Earn 30 same-day points to play the kiosk game. Everyone is guaranteed to win Promo Play!
URL:https://www.winnavegas.com/event/tuts-treasures-kiosk-game/2026-05-07/
LOCATION:WinnaVegas Casino\, 1500 330th Street\, Sloan\, IA\, 51055\, United States
CATEGORIES:Promotions
ATTACH;FMTTYPE=image/jpeg:https://www.winnavegas.com/wp-content/uploads/2026/04/May26TutsTreasures-PROMO.jpg
END:VEVENT
BEGIN:VEVENT
DTSTART;TZID=America/Chicago:20260512T080000
DTEND;TZID=America/Chicago:20260512T233000
DTSTAMP:20260425T080130
CREATED:20260424T195819Z
LAST-MODIFIED:20260424T195819Z
UID:10006432-1778572800-1778628600@www.winnavegas.com
SUMMARY:Tut's Treasures Kiosk Game
DESCRIPTION:Earn 30 same-day points to play the kiosk game. Everyone is guaranteed to win Promo Play!
URL:https://www.winnavegas.com/event/tuts-treasures-kiosk-game/2026-05-12/
LOCATION:WinnaVegas Casino\, 1500 330th Street\, Sloan\, IA\, 51055\, United States
CATEGORIES:Promotions
ATTACH;FMTTYPE=image/jpeg:https://www.winnavegas.com/wp-content/uploads/2026/04/May26TutsTreasures-PROMO.jpg
END:VEVENT
BEGIN:VEVENT
DTSTART;TZID=America/Chicago:20260514T080000
DTEND;TZID=America/Chicago:20260514T233000
DTSTAMP:20260425T080130
CREATED:20260424T195819Z
LAST-MODIFIED:20260424T195819Z
UID:10006433-1778745600-1778801400@www.winnavegas.com
SUMMARY:Tut's Treasures Kiosk Game
DESCRIPTION:Earn 30 same-day points to play the kiosk game. Everyone is guaranteed to win Promo Play!
URL:https://www.winnavegas.com/event/tuts-treasures-kiosk-game/2026-05-14/
LOCATION:WinnaVegas Casino\, 1500 330th Street\, Sloan\, IA\, 51055\, United States
CATEGORIES:Promotions
ATTACH;FMTTYPE=image/jpeg:https://www.winnavegas.com/wp-content/uploads/2026/04/May26TutsTreasures-PROMO.jpg
END:VEVENT
BEGIN:VEVENT
DTSTART;TZID=America/Chicago:20260519T080000
DTEND;TZID=America/Chicago:20260519T233000
DTSTAMP:20260425T080130
CREATED:20260424T195819Z
LAST-MODIFIED:20260424T195819Z
UID:10006434-1779177600-1779233400@www.winnavegas.com
SUMMARY:Tut's Treasures Kiosk Game
DESCRIPTION:Earn 30 same-day points to play the kiosk game. Everyone is guaranteed to win Promo Play!
URL:https://www.winnavegas.com/event/tuts-treasures-kiosk-game/2026-05-19/
LOCATION:WinnaVegas Casino\, 1500 330th Street\, Sloan\, IA\, 51055\, United States
CATEGORIES:Promotions
ATTACH;FMTTYPE=image/jpeg:https://www.winnavegas.com/wp-content/uploads/2026/04/May26TutsTreasures-PROMO.jpg
END:VEVENT
BEGIN:VEVENT
DTSTART;TZID=America/Chicago:20260521T080000
DTEND;TZID=America/Chicago:20260521T233000
DTSTAMP:20260425T080130
CREATED:20260424T195819Z
LAST-MODIFIED:20260424T195819Z
UID:10006435-1779350400-1779406200@www.winnavegas.com
SUMMARY:Tut's Treasures Kiosk Game
DESCRIPTION:Earn 30 same-day points to play the kiosk game. Everyone is guaranteed to win Promo Play!
URL:https://www.winnavegas.com/event/tuts-treasures-kiosk-game/2026-05-21/
LOCATION:WinnaVegas Casino\, 1500 330th Street\, Sloan\, IA\, 51055\, United States
CATEGORIES:Promotions
ATTACH;FMTTYPE=image/jpeg:https://www.winnavegas.com/wp-content/uploads/2026/04/May26TutsTreasures-PROMO.jpg
END:VEVENT
BEGIN:VEVENT
DTSTART;TZID=America/Chicago:20260526T080000
DTEND;TZID=America/Chicago:20260526T233000
DTSTAMP:20260425T080130
CREATED:20260424T195819Z
LAST-MODIFIED:20260424T195819Z
UID:10006436-1779782400-1779838200@www.winnavegas.com
SUMMARY:Tut's Treasures Kiosk Game
DESCRIPTION:Earn 30 same-day points to play the kiosk game. Everyone is guaranteed to win Promo Play!
URL:https://www.winnavegas.com/event/tuts-treasures-kiosk-game/2026-05-26/
LOCATION:WinnaVegas Casino\, 1500 330th Street\, Sloan\, IA\, 51055\, United States
CATEGORIES:Promotions
ATTACH;FMTTYPE=image/jpeg:https://www.winnavegas.com/wp-content/uploads/2026/04/May26TutsTreasures-PROMO.jpg
END:VEVENT
BEGIN:VEVENT
DTSTART;TZID=America/Chicago:20260528T080000
DTEND;TZID=America/Chicago:20260528T233000
DTSTAMP:20260425T080130
CREATED:20260424T195819Z
LAST-MODIFIED:20260424T195819Z
UID:10006437-1779955200-1780011000@www.winnavegas.com
SUMMARY:Tut's Treasures Kiosk Game
DESCRIPTION:Earn 30 same-day points to play the kiosk game. Everyone is guaranteed to win Promo Play!
URL:https://www.winnavegas.com/event/tuts-treasures-kiosk-game/2026-05-28/
LOCATION:WinnaVegas Casino\, 1500 330th Street\, Sloan\, IA\, 51055\, United States
CATEGORIES:Promotions
ATTACH;FMTTYPE=image/jpeg:https://www.winnavegas.com/wp-content/uploads/2026/04/May26TutsTreasures-PROMO.jpg
END:VEVENT
END:VCALENDAR