BEGIN:VCALENDAR
VERSION:2.0
PRODID:-//WinnaVegas - ECPv6.5.2//NONSGML v1.0//EN
CALSCALE:GREGORIAN
METHOD:PUBLISH
X-ORIGINAL-URL:https://www.winnavegas.com
X-WR-CALDESC:Events for WinnaVegas
REFRESH-INTERVAL;VALUE=DURATION:PT1H
X-Robots-Tag:noindex
X-PUBLISHED-TTL:PT1H
BEGIN:VTIMEZONE
TZID:America/Chicago
BEGIN:DAYLIGHT
TZOFFSETFROM:-0600
TZOFFSETTO:-0500
TZNAME:CDT
DTSTART:20270314T080000
END:DAYLIGHT
BEGIN:STANDARD
TZOFFSETFROM:-0500
TZOFFSETTO:-0600
TZNAME:CST
DTSTART:20271107T070000
END:STANDARD
END:VTIMEZONE
BEGIN:VEVENT
DTSTART;VALUE=DATE:20270628
DTEND;VALUE=DATE:20270629
DTSTAMP:20260419T134357
CREATED:20250521T204924Z
LAST-MODIFIED:20260129T190151Z
UID:10004769-1814140800-1814227199@www.winnavegas.com
SUMMARY:Play To Stay
DESCRIPTION:Earn 50 same-day points to receive a discounted hotel rate of $70 per night. \nPromotion is applicable for the same night as the day the points were earned. \nPromotion is subject to availability. Black-out dates apply. Please see Hotel or Guest Services for more information.
URL:https://www.winnavegas.com/event/play-to-stay/2027-06-28/
LOCATION:WinnaVegas Casino\, 1500 330th Street\, Sloan\, IA\, 51055\, United States
ATTACH;FMTTYPE=image/jpeg:https://www.winnavegas.com/wp-content/uploads/2025/05/PlayToStay-PROMO.jpg
END:VEVENT
BEGIN:VEVENT
DTSTART;VALUE=DATE:20270629
DTEND;VALUE=DATE:20270630
DTSTAMP:20260419T134357
CREATED:20250521T204924Z
LAST-MODIFIED:20260129T190151Z
UID:10004770-1814227200-1814313599@www.winnavegas.com
SUMMARY:Play To Stay
DESCRIPTION:Earn 50 same-day points to receive a discounted hotel rate of $70 per night. \nPromotion is applicable for the same night as the day the points were earned. \nPromotion is subject to availability. Black-out dates apply. Please see Hotel or Guest Services for more information.
URL:https://www.winnavegas.com/event/play-to-stay/2027-06-29/
LOCATION:WinnaVegas Casino\, 1500 330th Street\, Sloan\, IA\, 51055\, United States
ATTACH;FMTTYPE=image/jpeg:https://www.winnavegas.com/wp-content/uploads/2025/05/PlayToStay-PROMO.jpg
END:VEVENT
BEGIN:VEVENT
DTSTART;VALUE=DATE:20270630
DTEND;VALUE=DATE:20270701
DTSTAMP:20260419T134357
CREATED:20250521T204924Z
LAST-MODIFIED:20260129T190151Z
UID:10004771-1814313600-1814399999@www.winnavegas.com
SUMMARY:Play To Stay
DESCRIPTION:Earn 50 same-day points to receive a discounted hotel rate of $70 per night. \nPromotion is applicable for the same night as the day the points were earned. \nPromotion is subject to availability. Black-out dates apply. Please see Hotel or Guest Services for more information.
URL:https://www.winnavegas.com/event/play-to-stay/2027-06-30/
LOCATION:WinnaVegas Casino\, 1500 330th Street\, Sloan\, IA\, 51055\, United States
ATTACH;FMTTYPE=image/jpeg:https://www.winnavegas.com/wp-content/uploads/2025/05/PlayToStay-PROMO.jpg
END:VEVENT
BEGIN:VEVENT
DTSTART;VALUE=DATE:20270701
DTEND;VALUE=DATE:20270702
DTSTAMP:20260419T134357
CREATED:20250521T204924Z
LAST-MODIFIED:20260129T190151Z
UID:10004772-1814400000-1814486399@www.winnavegas.com
SUMMARY:Play To Stay
DESCRIPTION:Earn 50 same-day points to receive a discounted hotel rate of $70 per night. \nPromotion is applicable for the same night as the day the points were earned. \nPromotion is subject to availability. Black-out dates apply. Please see Hotel or Guest Services for more information.
URL:https://www.winnavegas.com/event/play-to-stay/2027-07-01/
LOCATION:WinnaVegas Casino\, 1500 330th Street\, Sloan\, IA\, 51055\, United States
ATTACH;FMTTYPE=image/jpeg:https://www.winnavegas.com/wp-content/uploads/2025/05/PlayToStay-PROMO.jpg
END:VEVENT
BEGIN:VEVENT
DTSTART;VALUE=DATE:20270704
DTEND;VALUE=DATE:20270705
DTSTAMP:20260419T134357
CREATED:20250521T204924Z
LAST-MODIFIED:20260129T190151Z
UID:10004773-1814659200-1814745599@www.winnavegas.com
SUMMARY:Play To Stay
DESCRIPTION:Earn 50 same-day points to receive a discounted hotel rate of $70 per night. \nPromotion is applicable for the same night as the day the points were earned. \nPromotion is subject to availability. Black-out dates apply. Please see Hotel or Guest Services for more information.
URL:https://www.winnavegas.com/event/play-to-stay/2027-07-04/
LOCATION:WinnaVegas Casino\, 1500 330th Street\, Sloan\, IA\, 51055\, United States
ATTACH;FMTTYPE=image/jpeg:https://www.winnavegas.com/wp-content/uploads/2025/05/PlayToStay-PROMO.jpg
END:VEVENT
BEGIN:VEVENT
DTSTART;VALUE=DATE:20270705
DTEND;VALUE=DATE:20270706
DTSTAMP:20260419T134357
CREATED:20250521T204924Z
LAST-MODIFIED:20260129T190151Z
UID:10004774-1814745600-1814831999@www.winnavegas.com
SUMMARY:Play To Stay
DESCRIPTION:Earn 50 same-day points to receive a discounted hotel rate of $70 per night. \nPromotion is applicable for the same night as the day the points were earned. \nPromotion is subject to availability. Black-out dates apply. Please see Hotel or Guest Services for more information.
URL:https://www.winnavegas.com/event/play-to-stay/2027-07-05/
LOCATION:WinnaVegas Casino\, 1500 330th Street\, Sloan\, IA\, 51055\, United States
ATTACH;FMTTYPE=image/jpeg:https://www.winnavegas.com/wp-content/uploads/2025/05/PlayToStay-PROMO.jpg
END:VEVENT
BEGIN:VEVENT
DTSTART;VALUE=DATE:20270706
DTEND;VALUE=DATE:20270707
DTSTAMP:20260419T134357
CREATED:20250521T204924Z
LAST-MODIFIED:20260129T190151Z
UID:10004775-1814832000-1814918399@www.winnavegas.com
SUMMARY:Play To Stay
DESCRIPTION:Earn 50 same-day points to receive a discounted hotel rate of $70 per night. \nPromotion is applicable for the same night as the day the points were earned. \nPromotion is subject to availability. Black-out dates apply. Please see Hotel or Guest Services for more information.
URL:https://www.winnavegas.com/event/play-to-stay/2027-07-06/
LOCATION:WinnaVegas Casino\, 1500 330th Street\, Sloan\, IA\, 51055\, United States
ATTACH;FMTTYPE=image/jpeg:https://www.winnavegas.com/wp-content/uploads/2025/05/PlayToStay-PROMO.jpg
END:VEVENT
BEGIN:VEVENT
DTSTART;VALUE=DATE:20270707
DTEND;VALUE=DATE:20270708
DTSTAMP:20260419T134357
CREATED:20250521T204924Z
LAST-MODIFIED:20260129T190151Z
UID:10004776-1814918400-1815004799@www.winnavegas.com
SUMMARY:Play To Stay
DESCRIPTION:Earn 50 same-day points to receive a discounted hotel rate of $70 per night. \nPromotion is applicable for the same night as the day the points were earned. \nPromotion is subject to availability. Black-out dates apply. Please see Hotel or Guest Services for more information.
URL:https://www.winnavegas.com/event/play-to-stay/2027-07-07/
LOCATION:WinnaVegas Casino\, 1500 330th Street\, Sloan\, IA\, 51055\, United States
ATTACH;FMTTYPE=image/jpeg:https://www.winnavegas.com/wp-content/uploads/2025/05/PlayToStay-PROMO.jpg
END:VEVENT
BEGIN:VEVENT
DTSTART;VALUE=DATE:20270708
DTEND;VALUE=DATE:20270709
DTSTAMP:20260419T134357
CREATED:20250521T204924Z
LAST-MODIFIED:20260129T190151Z
UID:10004777-1815004800-1815091199@www.winnavegas.com
SUMMARY:Play To Stay
DESCRIPTION:Earn 50 same-day points to receive a discounted hotel rate of $70 per night. \nPromotion is applicable for the same night as the day the points were earned. \nPromotion is subject to availability. Black-out dates apply. Please see Hotel or Guest Services for more information.
URL:https://www.winnavegas.com/event/play-to-stay/2027-07-08/
LOCATION:WinnaVegas Casino\, 1500 330th Street\, Sloan\, IA\, 51055\, United States
ATTACH;FMTTYPE=image/jpeg:https://www.winnavegas.com/wp-content/uploads/2025/05/PlayToStay-PROMO.jpg
END:VEVENT
BEGIN:VEVENT
DTSTART;VALUE=DATE:20270711
DTEND;VALUE=DATE:20270712
DTSTAMP:20260419T134357
CREATED:20250521T204924Z
LAST-MODIFIED:20260129T190151Z
UID:10004778-1815264000-1815350399@www.winnavegas.com
SUMMARY:Play To Stay
DESCRIPTION:Earn 50 same-day points to receive a discounted hotel rate of $70 per night. \nPromotion is applicable for the same night as the day the points were earned. \nPromotion is subject to availability. Black-out dates apply. Please see Hotel or Guest Services for more information.
URL:https://www.winnavegas.com/event/play-to-stay/2027-07-11/
LOCATION:WinnaVegas Casino\, 1500 330th Street\, Sloan\, IA\, 51055\, United States
ATTACH;FMTTYPE=image/jpeg:https://www.winnavegas.com/wp-content/uploads/2025/05/PlayToStay-PROMO.jpg
END:VEVENT
BEGIN:VEVENT
DTSTART;VALUE=DATE:20270712
DTEND;VALUE=DATE:20270713
DTSTAMP:20260419T134357
CREATED:20250521T204924Z
LAST-MODIFIED:20260129T190151Z
UID:10004779-1815350400-1815436799@www.winnavegas.com
SUMMARY:Play To Stay
DESCRIPTION:Earn 50 same-day points to receive a discounted hotel rate of $70 per night. \nPromotion is applicable for the same night as the day the points were earned. \nPromotion is subject to availability. Black-out dates apply. Please see Hotel or Guest Services for more information.
URL:https://www.winnavegas.com/event/play-to-stay/2027-07-12/
LOCATION:WinnaVegas Casino\, 1500 330th Street\, Sloan\, IA\, 51055\, United States
ATTACH;FMTTYPE=image/jpeg:https://www.winnavegas.com/wp-content/uploads/2025/05/PlayToStay-PROMO.jpg
END:VEVENT
BEGIN:VEVENT
DTSTART;VALUE=DATE:20270713
DTEND;VALUE=DATE:20270714
DTSTAMP:20260419T134357
CREATED:20250521T204924Z
LAST-MODIFIED:20260129T190151Z
UID:10004780-1815436800-1815523199@www.winnavegas.com
SUMMARY:Play To Stay
DESCRIPTION:Earn 50 same-day points to receive a discounted hotel rate of $70 per night. \nPromotion is applicable for the same night as the day the points were earned. \nPromotion is subject to availability. Black-out dates apply. Please see Hotel or Guest Services for more information.
URL:https://www.winnavegas.com/event/play-to-stay/2027-07-13/
LOCATION:WinnaVegas Casino\, 1500 330th Street\, Sloan\, IA\, 51055\, United States
ATTACH;FMTTYPE=image/jpeg:https://www.winnavegas.com/wp-content/uploads/2025/05/PlayToStay-PROMO.jpg
END:VEVENT
BEGIN:VEVENT
DTSTART;VALUE=DATE:20270714
DTEND;VALUE=DATE:20270715
DTSTAMP:20260419T134357
CREATED:20250521T204924Z
LAST-MODIFIED:20260129T190151Z
UID:10004781-1815523200-1815609599@www.winnavegas.com
SUMMARY:Play To Stay
DESCRIPTION:Earn 50 same-day points to receive a discounted hotel rate of $70 per night. \nPromotion is applicable for the same night as the day the points were earned. \nPromotion is subject to availability. Black-out dates apply. Please see Hotel or Guest Services for more information.
URL:https://www.winnavegas.com/event/play-to-stay/2027-07-14/
LOCATION:WinnaVegas Casino\, 1500 330th Street\, Sloan\, IA\, 51055\, United States
ATTACH;FMTTYPE=image/jpeg:https://www.winnavegas.com/wp-content/uploads/2025/05/PlayToStay-PROMO.jpg
END:VEVENT
BEGIN:VEVENT
DTSTART;VALUE=DATE:20270715
DTEND;VALUE=DATE:20270716
DTSTAMP:20260419T134357
CREATED:20250521T204924Z
LAST-MODIFIED:20260129T190151Z
UID:10004782-1815609600-1815695999@www.winnavegas.com
SUMMARY:Play To Stay
DESCRIPTION:Earn 50 same-day points to receive a discounted hotel rate of $70 per night. \nPromotion is applicable for the same night as the day the points were earned. \nPromotion is subject to availability. Black-out dates apply. Please see Hotel or Guest Services for more information.
URL:https://www.winnavegas.com/event/play-to-stay/2027-07-15/
LOCATION:WinnaVegas Casino\, 1500 330th Street\, Sloan\, IA\, 51055\, United States
ATTACH;FMTTYPE=image/jpeg:https://www.winnavegas.com/wp-content/uploads/2025/05/PlayToStay-PROMO.jpg
END:VEVENT
BEGIN:VEVENT
DTSTART;VALUE=DATE:20270718
DTEND;VALUE=DATE:20270719
DTSTAMP:20260419T134358
CREATED:20250521T204924Z
LAST-MODIFIED:20260129T190151Z
UID:10004783-1815868800-1815955199@www.winnavegas.com
SUMMARY:Play To Stay
DESCRIPTION:Earn 50 same-day points to receive a discounted hotel rate of $70 per night. \nPromotion is applicable for the same night as the day the points were earned. \nPromotion is subject to availability. Black-out dates apply. Please see Hotel or Guest Services for more information.
URL:https://www.winnavegas.com/event/play-to-stay/2027-07-18/
LOCATION:WinnaVegas Casino\, 1500 330th Street\, Sloan\, IA\, 51055\, United States
ATTACH;FMTTYPE=image/jpeg:https://www.winnavegas.com/wp-content/uploads/2025/05/PlayToStay-PROMO.jpg
END:VEVENT
BEGIN:VEVENT
DTSTART;VALUE=DATE:20270719
DTEND;VALUE=DATE:20270720
DTSTAMP:20260419T134358
CREATED:20250521T204924Z
LAST-MODIFIED:20260129T190151Z
UID:10004784-1815955200-1816041599@www.winnavegas.com
SUMMARY:Play To Stay
DESCRIPTION:Earn 50 same-day points to receive a discounted hotel rate of $70 per night. \nPromotion is applicable for the same night as the day the points were earned. \nPromotion is subject to availability. Black-out dates apply. Please see Hotel or Guest Services for more information.
URL:https://www.winnavegas.com/event/play-to-stay/2027-07-19/
LOCATION:WinnaVegas Casino\, 1500 330th Street\, Sloan\, IA\, 51055\, United States
ATTACH;FMTTYPE=image/jpeg:https://www.winnavegas.com/wp-content/uploads/2025/05/PlayToStay-PROMO.jpg
END:VEVENT
BEGIN:VEVENT
DTSTART;VALUE=DATE:20270720
DTEND;VALUE=DATE:20270721
DTSTAMP:20260419T134358
CREATED:20250521T204924Z
LAST-MODIFIED:20260129T190151Z
UID:10004785-1816041600-1816127999@www.winnavegas.com
SUMMARY:Play To Stay
DESCRIPTION:Earn 50 same-day points to receive a discounted hotel rate of $70 per night. \nPromotion is applicable for the same night as the day the points were earned. \nPromotion is subject to availability. Black-out dates apply. Please see Hotel or Guest Services for more information.
URL:https://www.winnavegas.com/event/play-to-stay/2027-07-20/
LOCATION:WinnaVegas Casino\, 1500 330th Street\, Sloan\, IA\, 51055\, United States
ATTACH;FMTTYPE=image/jpeg:https://www.winnavegas.com/wp-content/uploads/2025/05/PlayToStay-PROMO.jpg
END:VEVENT
BEGIN:VEVENT
DTSTART;VALUE=DATE:20270721
DTEND;VALUE=DATE:20270722
DTSTAMP:20260419T134358
CREATED:20250521T204924Z
LAST-MODIFIED:20260129T190151Z
UID:10004786-1816128000-1816214399@www.winnavegas.com
SUMMARY:Play To Stay
DESCRIPTION:Earn 50 same-day points to receive a discounted hotel rate of $70 per night. \nPromotion is applicable for the same night as the day the points were earned. \nPromotion is subject to availability. Black-out dates apply. Please see Hotel or Guest Services for more information.
URL:https://www.winnavegas.com/event/play-to-stay/2027-07-21/
LOCATION:WinnaVegas Casino\, 1500 330th Street\, Sloan\, IA\, 51055\, United States
ATTACH;FMTTYPE=image/jpeg:https://www.winnavegas.com/wp-content/uploads/2025/05/PlayToStay-PROMO.jpg
END:VEVENT
BEGIN:VEVENT
DTSTART;VALUE=DATE:20270722
DTEND;VALUE=DATE:20270723
DTSTAMP:20260419T134358
CREATED:20250521T204924Z
LAST-MODIFIED:20260129T190151Z
UID:10004787-1816214400-1816300799@www.winnavegas.com
SUMMARY:Play To Stay
DESCRIPTION:Earn 50 same-day points to receive a discounted hotel rate of $70 per night. \nPromotion is applicable for the same night as the day the points were earned. \nPromotion is subject to availability. Black-out dates apply. Please see Hotel or Guest Services for more information.
URL:https://www.winnavegas.com/event/play-to-stay/2027-07-22/
LOCATION:WinnaVegas Casino\, 1500 330th Street\, Sloan\, IA\, 51055\, United States
ATTACH;FMTTYPE=image/jpeg:https://www.winnavegas.com/wp-content/uploads/2025/05/PlayToStay-PROMO.jpg
END:VEVENT
BEGIN:VEVENT
DTSTART;VALUE=DATE:20270725
DTEND;VALUE=DATE:20270726
DTSTAMP:20260419T134358
CREATED:20250521T204924Z
LAST-MODIFIED:20260129T190151Z
UID:10004788-1816473600-1816559999@www.winnavegas.com
SUMMARY:Play To Stay
DESCRIPTION:Earn 50 same-day points to receive a discounted hotel rate of $70 per night. \nPromotion is applicable for the same night as the day the points were earned. \nPromotion is subject to availability. Black-out dates apply. Please see Hotel or Guest Services for more information.
URL:https://www.winnavegas.com/event/play-to-stay/2027-07-25/
LOCATION:WinnaVegas Casino\, 1500 330th Street\, Sloan\, IA\, 51055\, United States
ATTACH;FMTTYPE=image/jpeg:https://www.winnavegas.com/wp-content/uploads/2025/05/PlayToStay-PROMO.jpg
END:VEVENT
BEGIN:VEVENT
DTSTART;VALUE=DATE:20270726
DTEND;VALUE=DATE:20270727
DTSTAMP:20260419T134358
CREATED:20250521T204924Z
LAST-MODIFIED:20260129T190151Z
UID:10004789-1816560000-1816646399@www.winnavegas.com
SUMMARY:Play To Stay
DESCRIPTION:Earn 50 same-day points to receive a discounted hotel rate of $70 per night. \nPromotion is applicable for the same night as the day the points were earned. \nPromotion is subject to availability. Black-out dates apply. Please see Hotel or Guest Services for more information.
URL:https://www.winnavegas.com/event/play-to-stay/2027-07-26/
LOCATION:WinnaVegas Casino\, 1500 330th Street\, Sloan\, IA\, 51055\, United States
ATTACH;FMTTYPE=image/jpeg:https://www.winnavegas.com/wp-content/uploads/2025/05/PlayToStay-PROMO.jpg
END:VEVENT
BEGIN:VEVENT
DTSTART;VALUE=DATE:20270727
DTEND;VALUE=DATE:20270728
DTSTAMP:20260419T134358
CREATED:20250521T204924Z
LAST-MODIFIED:20260129T190151Z
UID:10004790-1816646400-1816732799@www.winnavegas.com
SUMMARY:Play To Stay
DESCRIPTION:Earn 50 same-day points to receive a discounted hotel rate of $70 per night. \nPromotion is applicable for the same night as the day the points were earned. \nPromotion is subject to availability. Black-out dates apply. Please see Hotel or Guest Services for more information.
URL:https://www.winnavegas.com/event/play-to-stay/2027-07-27/
LOCATION:WinnaVegas Casino\, 1500 330th Street\, Sloan\, IA\, 51055\, United States
ATTACH;FMTTYPE=image/jpeg:https://www.winnavegas.com/wp-content/uploads/2025/05/PlayToStay-PROMO.jpg
END:VEVENT
BEGIN:VEVENT
DTSTART;VALUE=DATE:20270728
DTEND;VALUE=DATE:20270729
DTSTAMP:20260419T134358
CREATED:20250521T204924Z
LAST-MODIFIED:20260129T190151Z
UID:10004791-1816732800-1816819199@www.winnavegas.com
SUMMARY:Play To Stay
DESCRIPTION:Earn 50 same-day points to receive a discounted hotel rate of $70 per night. \nPromotion is applicable for the same night as the day the points were earned. \nPromotion is subject to availability. Black-out dates apply. Please see Hotel or Guest Services for more information.
URL:https://www.winnavegas.com/event/play-to-stay/2027-07-28/
LOCATION:WinnaVegas Casino\, 1500 330th Street\, Sloan\, IA\, 51055\, United States
ATTACH;FMTTYPE=image/jpeg:https://www.winnavegas.com/wp-content/uploads/2025/05/PlayToStay-PROMO.jpg
END:VEVENT
BEGIN:VEVENT
DTSTART;VALUE=DATE:20270729
DTEND;VALUE=DATE:20270730
DTSTAMP:20260419T134358
CREATED:20250521T204924Z
LAST-MODIFIED:20260129T190151Z
UID:10004792-1816819200-1816905599@www.winnavegas.com
SUMMARY:Play To Stay
DESCRIPTION:Earn 50 same-day points to receive a discounted hotel rate of $70 per night. \nPromotion is applicable for the same night as the day the points were earned. \nPromotion is subject to availability. Black-out dates apply. Please see Hotel or Guest Services for more information.
URL:https://www.winnavegas.com/event/play-to-stay/2027-07-29/
LOCATION:WinnaVegas Casino\, 1500 330th Street\, Sloan\, IA\, 51055\, United States
ATTACH;FMTTYPE=image/jpeg:https://www.winnavegas.com/wp-content/uploads/2025/05/PlayToStay-PROMO.jpg
END:VEVENT
BEGIN:VEVENT
DTSTART;VALUE=DATE:20270801
DTEND;VALUE=DATE:20270802
DTSTAMP:20260419T134358
CREATED:20250521T204924Z
LAST-MODIFIED:20260129T190151Z
UID:10004793-1817078400-1817164799@www.winnavegas.com
SUMMARY:Play To Stay
DESCRIPTION:Earn 50 same-day points to receive a discounted hotel rate of $70 per night. \nPromotion is applicable for the same night as the day the points were earned. \nPromotion is subject to availability. Black-out dates apply. Please see Hotel or Guest Services for more information.
URL:https://www.winnavegas.com/event/play-to-stay/2027-08-01/
LOCATION:WinnaVegas Casino\, 1500 330th Street\, Sloan\, IA\, 51055\, United States
ATTACH;FMTTYPE=image/jpeg:https://www.winnavegas.com/wp-content/uploads/2025/05/PlayToStay-PROMO.jpg
END:VEVENT
BEGIN:VEVENT
DTSTART;VALUE=DATE:20270802
DTEND;VALUE=DATE:20270803
DTSTAMP:20260419T134358
CREATED:20250521T204924Z
LAST-MODIFIED:20260129T190151Z
UID:10004794-1817164800-1817251199@www.winnavegas.com
SUMMARY:Play To Stay
DESCRIPTION:Earn 50 same-day points to receive a discounted hotel rate of $70 per night. \nPromotion is applicable for the same night as the day the points were earned. \nPromotion is subject to availability. Black-out dates apply. Please see Hotel or Guest Services for more information.
URL:https://www.winnavegas.com/event/play-to-stay/2027-08-02/
LOCATION:WinnaVegas Casino\, 1500 330th Street\, Sloan\, IA\, 51055\, United States
ATTACH;FMTTYPE=image/jpeg:https://www.winnavegas.com/wp-content/uploads/2025/05/PlayToStay-PROMO.jpg
END:VEVENT
BEGIN:VEVENT
DTSTART;VALUE=DATE:20270803
DTEND;VALUE=DATE:20270804
DTSTAMP:20260419T134358
CREATED:20250521T204924Z
LAST-MODIFIED:20260129T190151Z
UID:10004795-1817251200-1817337599@www.winnavegas.com
SUMMARY:Play To Stay
DESCRIPTION:Earn 50 same-day points to receive a discounted hotel rate of $70 per night. \nPromotion is applicable for the same night as the day the points were earned. \nPromotion is subject to availability. Black-out dates apply. Please see Hotel or Guest Services for more information.
URL:https://www.winnavegas.com/event/play-to-stay/2027-08-03/
LOCATION:WinnaVegas Casino\, 1500 330th Street\, Sloan\, IA\, 51055\, United States
ATTACH;FMTTYPE=image/jpeg:https://www.winnavegas.com/wp-content/uploads/2025/05/PlayToStay-PROMO.jpg
END:VEVENT
BEGIN:VEVENT
DTSTART;VALUE=DATE:20270804
DTEND;VALUE=DATE:20270805
DTSTAMP:20260419T134358
CREATED:20250521T204924Z
LAST-MODIFIED:20260129T190151Z
UID:10004796-1817337600-1817423999@www.winnavegas.com
SUMMARY:Play To Stay
DESCRIPTION:Earn 50 same-day points to receive a discounted hotel rate of $70 per night. \nPromotion is applicable for the same night as the day the points were earned. \nPromotion is subject to availability. Black-out dates apply. Please see Hotel or Guest Services for more information.
URL:https://www.winnavegas.com/event/play-to-stay/2027-08-04/
LOCATION:WinnaVegas Casino\, 1500 330th Street\, Sloan\, IA\, 51055\, United States
ATTACH;FMTTYPE=image/jpeg:https://www.winnavegas.com/wp-content/uploads/2025/05/PlayToStay-PROMO.jpg
END:VEVENT
BEGIN:VEVENT
DTSTART;VALUE=DATE:20270805
DTEND;VALUE=DATE:20270806
DTSTAMP:20260419T134358
CREATED:20250521T204924Z
LAST-MODIFIED:20260129T190151Z
UID:10004797-1817424000-1817510399@www.winnavegas.com
SUMMARY:Play To Stay
DESCRIPTION:Earn 50 same-day points to receive a discounted hotel rate of $70 per night. \nPromotion is applicable for the same night as the day the points were earned. \nPromotion is subject to availability. Black-out dates apply. Please see Hotel or Guest Services for more information.
URL:https://www.winnavegas.com/event/play-to-stay/2027-08-05/
LOCATION:WinnaVegas Casino\, 1500 330th Street\, Sloan\, IA\, 51055\, United States
ATTACH;FMTTYPE=image/jpeg:https://www.winnavegas.com/wp-content/uploads/2025/05/PlayToStay-PROMO.jpg
END:VEVENT
BEGIN:VEVENT
DTSTART;VALUE=DATE:20270808
DTEND;VALUE=DATE:20270809
DTSTAMP:20260419T134358
CREATED:20250521T204924Z
LAST-MODIFIED:20260129T190151Z
UID:10004798-1817683200-1817769599@www.winnavegas.com
SUMMARY:Play To Stay
DESCRIPTION:Earn 50 same-day points to receive a discounted hotel rate of $70 per night. \nPromotion is applicable for the same night as the day the points were earned. \nPromotion is subject to availability. Black-out dates apply. Please see Hotel or Guest Services for more information.
URL:https://www.winnavegas.com/event/play-to-stay/2027-08-08/
LOCATION:WinnaVegas Casino\, 1500 330th Street\, Sloan\, IA\, 51055\, United States
ATTACH;FMTTYPE=image/jpeg:https://www.winnavegas.com/wp-content/uploads/2025/05/PlayToStay-PROMO.jpg
END:VEVENT
END:VCALENDAR