BEGIN:VCALENDAR
VERSION:2.0
PRODID:-//WinnaVegas - ECPv6.5.2//NONSGML v1.0//EN
CALSCALE:GREGORIAN
METHOD:PUBLISH
X-ORIGINAL-URL:https://www.winnavegas.com
X-WR-CALDESC:Events for WinnaVegas
REFRESH-INTERVAL;VALUE=DURATION:PT1H
X-Robots-Tag:noindex
X-PUBLISHED-TTL:PT1H
BEGIN:VTIMEZONE
TZID:America/Chicago
BEGIN:DAYLIGHT
TZOFFSETFROM:-0600
TZOFFSETTO:-0500
TZNAME:CDT
DTSTART:20270314T080000
END:DAYLIGHT
BEGIN:STANDARD
TZOFFSETFROM:-0500
TZOFFSETTO:-0600
TZNAME:CST
DTSTART:20271107T070000
END:STANDARD
END:VTIMEZONE
BEGIN:VEVENT
DTSTART;VALUE=DATE:20270801
DTEND;VALUE=DATE:20270802
DTSTAMP:20260419T101542
CREATED:20250521T204924Z
LAST-MODIFIED:20260129T190151Z
UID:10004793-1817078400-1817164799@www.winnavegas.com
SUMMARY:Play To Stay
DESCRIPTION:Earn 50 same-day points to receive a discounted hotel rate of $70 per night. \nPromotion is applicable for the same night as the day the points were earned. \nPromotion is subject to availability. Black-out dates apply. Please see Hotel or Guest Services for more information.
URL:https://www.winnavegas.com/event/play-to-stay/2027-08-01/
LOCATION:WinnaVegas Casino\, 1500 330th Street\, Sloan\, IA\, 51055\, United States
ATTACH;FMTTYPE=image/jpeg:https://www.winnavegas.com/wp-content/uploads/2025/05/PlayToStay-PROMO.jpg
END:VEVENT
BEGIN:VEVENT
DTSTART;VALUE=DATE:20270802
DTEND;VALUE=DATE:20270803
DTSTAMP:20260419T101542
CREATED:20250521T204924Z
LAST-MODIFIED:20260129T190151Z
UID:10004794-1817164800-1817251199@www.winnavegas.com
SUMMARY:Play To Stay
DESCRIPTION:Earn 50 same-day points to receive a discounted hotel rate of $70 per night. \nPromotion is applicable for the same night as the day the points were earned. \nPromotion is subject to availability. Black-out dates apply. Please see Hotel or Guest Services for more information.
URL:https://www.winnavegas.com/event/play-to-stay/2027-08-02/
LOCATION:WinnaVegas Casino\, 1500 330th Street\, Sloan\, IA\, 51055\, United States
ATTACH;FMTTYPE=image/jpeg:https://www.winnavegas.com/wp-content/uploads/2025/05/PlayToStay-PROMO.jpg
END:VEVENT
BEGIN:VEVENT
DTSTART;VALUE=DATE:20270803
DTEND;VALUE=DATE:20270804
DTSTAMP:20260419T101542
CREATED:20250521T204924Z
LAST-MODIFIED:20260129T190151Z
UID:10004795-1817251200-1817337599@www.winnavegas.com
SUMMARY:Play To Stay
DESCRIPTION:Earn 50 same-day points to receive a discounted hotel rate of $70 per night. \nPromotion is applicable for the same night as the day the points were earned. \nPromotion is subject to availability. Black-out dates apply. Please see Hotel or Guest Services for more information.
URL:https://www.winnavegas.com/event/play-to-stay/2027-08-03/
LOCATION:WinnaVegas Casino\, 1500 330th Street\, Sloan\, IA\, 51055\, United States
ATTACH;FMTTYPE=image/jpeg:https://www.winnavegas.com/wp-content/uploads/2025/05/PlayToStay-PROMO.jpg
END:VEVENT
BEGIN:VEVENT
DTSTART;VALUE=DATE:20270804
DTEND;VALUE=DATE:20270805
DTSTAMP:20260419T101542
CREATED:20250521T204924Z
LAST-MODIFIED:20260129T190151Z
UID:10004796-1817337600-1817423999@www.winnavegas.com
SUMMARY:Play To Stay
DESCRIPTION:Earn 50 same-day points to receive a discounted hotel rate of $70 per night. \nPromotion is applicable for the same night as the day the points were earned. \nPromotion is subject to availability. Black-out dates apply. Please see Hotel or Guest Services for more information.
URL:https://www.winnavegas.com/event/play-to-stay/2027-08-04/
LOCATION:WinnaVegas Casino\, 1500 330th Street\, Sloan\, IA\, 51055\, United States
ATTACH;FMTTYPE=image/jpeg:https://www.winnavegas.com/wp-content/uploads/2025/05/PlayToStay-PROMO.jpg
END:VEVENT
BEGIN:VEVENT
DTSTART;VALUE=DATE:20270805
DTEND;VALUE=DATE:20270806
DTSTAMP:20260419T101542
CREATED:20250521T204924Z
LAST-MODIFIED:20260129T190151Z
UID:10004797-1817424000-1817510399@www.winnavegas.com
SUMMARY:Play To Stay
DESCRIPTION:Earn 50 same-day points to receive a discounted hotel rate of $70 per night. \nPromotion is applicable for the same night as the day the points were earned. \nPromotion is subject to availability. Black-out dates apply. Please see Hotel or Guest Services for more information.
URL:https://www.winnavegas.com/event/play-to-stay/2027-08-05/
LOCATION:WinnaVegas Casino\, 1500 330th Street\, Sloan\, IA\, 51055\, United States
ATTACH;FMTTYPE=image/jpeg:https://www.winnavegas.com/wp-content/uploads/2025/05/PlayToStay-PROMO.jpg
END:VEVENT
BEGIN:VEVENT
DTSTART;VALUE=DATE:20270808
DTEND;VALUE=DATE:20270809
DTSTAMP:20260419T101542
CREATED:20250521T204924Z
LAST-MODIFIED:20260129T190151Z
UID:10004798-1817683200-1817769599@www.winnavegas.com
SUMMARY:Play To Stay
DESCRIPTION:Earn 50 same-day points to receive a discounted hotel rate of $70 per night. \nPromotion is applicable for the same night as the day the points were earned. \nPromotion is subject to availability. Black-out dates apply. Please see Hotel or Guest Services for more information.
URL:https://www.winnavegas.com/event/play-to-stay/2027-08-08/
LOCATION:WinnaVegas Casino\, 1500 330th Street\, Sloan\, IA\, 51055\, United States
ATTACH;FMTTYPE=image/jpeg:https://www.winnavegas.com/wp-content/uploads/2025/05/PlayToStay-PROMO.jpg
END:VEVENT
BEGIN:VEVENT
DTSTART;VALUE=DATE:20270809
DTEND;VALUE=DATE:20270810
DTSTAMP:20260419T101542
CREATED:20250521T204924Z
LAST-MODIFIED:20260129T190151Z
UID:10004799-1817769600-1817855999@www.winnavegas.com
SUMMARY:Play To Stay
DESCRIPTION:Earn 50 same-day points to receive a discounted hotel rate of $70 per night. \nPromotion is applicable for the same night as the day the points were earned. \nPromotion is subject to availability. Black-out dates apply. Please see Hotel or Guest Services for more information.
URL:https://www.winnavegas.com/event/play-to-stay/2027-08-09/
LOCATION:WinnaVegas Casino\, 1500 330th Street\, Sloan\, IA\, 51055\, United States
ATTACH;FMTTYPE=image/jpeg:https://www.winnavegas.com/wp-content/uploads/2025/05/PlayToStay-PROMO.jpg
END:VEVENT
BEGIN:VEVENT
DTSTART;VALUE=DATE:20270810
DTEND;VALUE=DATE:20270811
DTSTAMP:20260419T101542
CREATED:20250521T204924Z
LAST-MODIFIED:20260129T190151Z
UID:10004800-1817856000-1817942399@www.winnavegas.com
SUMMARY:Play To Stay
DESCRIPTION:Earn 50 same-day points to receive a discounted hotel rate of $70 per night. \nPromotion is applicable for the same night as the day the points were earned. \nPromotion is subject to availability. Black-out dates apply. Please see Hotel or Guest Services for more information.
URL:https://www.winnavegas.com/event/play-to-stay/2027-08-10/
LOCATION:WinnaVegas Casino\, 1500 330th Street\, Sloan\, IA\, 51055\, United States
ATTACH;FMTTYPE=image/jpeg:https://www.winnavegas.com/wp-content/uploads/2025/05/PlayToStay-PROMO.jpg
END:VEVENT
BEGIN:VEVENT
DTSTART;VALUE=DATE:20270811
DTEND;VALUE=DATE:20270812
DTSTAMP:20260419T101542
CREATED:20250521T204924Z
LAST-MODIFIED:20260129T190151Z
UID:10004801-1817942400-1818028799@www.winnavegas.com
SUMMARY:Play To Stay
DESCRIPTION:Earn 50 same-day points to receive a discounted hotel rate of $70 per night. \nPromotion is applicable for the same night as the day the points were earned. \nPromotion is subject to availability. Black-out dates apply. Please see Hotel or Guest Services for more information.
URL:https://www.winnavegas.com/event/play-to-stay/2027-08-11/
LOCATION:WinnaVegas Casino\, 1500 330th Street\, Sloan\, IA\, 51055\, United States
ATTACH;FMTTYPE=image/jpeg:https://www.winnavegas.com/wp-content/uploads/2025/05/PlayToStay-PROMO.jpg
END:VEVENT
BEGIN:VEVENT
DTSTART;VALUE=DATE:20270812
DTEND;VALUE=DATE:20270813
DTSTAMP:20260419T101542
CREATED:20250521T204924Z
LAST-MODIFIED:20260129T190151Z
UID:10004802-1818028800-1818115199@www.winnavegas.com
SUMMARY:Play To Stay
DESCRIPTION:Earn 50 same-day points to receive a discounted hotel rate of $70 per night. \nPromotion is applicable for the same night as the day the points were earned. \nPromotion is subject to availability. Black-out dates apply. Please see Hotel or Guest Services for more information.
URL:https://www.winnavegas.com/event/play-to-stay/2027-08-12/
LOCATION:WinnaVegas Casino\, 1500 330th Street\, Sloan\, IA\, 51055\, United States
ATTACH;FMTTYPE=image/jpeg:https://www.winnavegas.com/wp-content/uploads/2025/05/PlayToStay-PROMO.jpg
END:VEVENT
BEGIN:VEVENT
DTSTART;VALUE=DATE:20270815
DTEND;VALUE=DATE:20270816
DTSTAMP:20260419T101542
CREATED:20250521T204924Z
LAST-MODIFIED:20260129T190151Z
UID:10004803-1818288000-1818374399@www.winnavegas.com
SUMMARY:Play To Stay
DESCRIPTION:Earn 50 same-day points to receive a discounted hotel rate of $70 per night. \nPromotion is applicable for the same night as the day the points were earned. \nPromotion is subject to availability. Black-out dates apply. Please see Hotel or Guest Services for more information.
URL:https://www.winnavegas.com/event/play-to-stay/2027-08-15/
LOCATION:WinnaVegas Casino\, 1500 330th Street\, Sloan\, IA\, 51055\, United States
ATTACH;FMTTYPE=image/jpeg:https://www.winnavegas.com/wp-content/uploads/2025/05/PlayToStay-PROMO.jpg
END:VEVENT
BEGIN:VEVENT
DTSTART;VALUE=DATE:20270816
DTEND;VALUE=DATE:20270817
DTSTAMP:20260419T101542
CREATED:20250521T204924Z
LAST-MODIFIED:20260129T190151Z
UID:10004804-1818374400-1818460799@www.winnavegas.com
SUMMARY:Play To Stay
DESCRIPTION:Earn 50 same-day points to receive a discounted hotel rate of $70 per night. \nPromotion is applicable for the same night as the day the points were earned. \nPromotion is subject to availability. Black-out dates apply. Please see Hotel or Guest Services for more information.
URL:https://www.winnavegas.com/event/play-to-stay/2027-08-16/
LOCATION:WinnaVegas Casino\, 1500 330th Street\, Sloan\, IA\, 51055\, United States
ATTACH;FMTTYPE=image/jpeg:https://www.winnavegas.com/wp-content/uploads/2025/05/PlayToStay-PROMO.jpg
END:VEVENT
BEGIN:VEVENT
DTSTART;VALUE=DATE:20270817
DTEND;VALUE=DATE:20270818
DTSTAMP:20260419T101542
CREATED:20250521T204924Z
LAST-MODIFIED:20260129T190151Z
UID:10004805-1818460800-1818547199@www.winnavegas.com
SUMMARY:Play To Stay
DESCRIPTION:Earn 50 same-day points to receive a discounted hotel rate of $70 per night. \nPromotion is applicable for the same night as the day the points were earned. \nPromotion is subject to availability. Black-out dates apply. Please see Hotel or Guest Services for more information.
URL:https://www.winnavegas.com/event/play-to-stay/2027-08-17/
LOCATION:WinnaVegas Casino\, 1500 330th Street\, Sloan\, IA\, 51055\, United States
ATTACH;FMTTYPE=image/jpeg:https://www.winnavegas.com/wp-content/uploads/2025/05/PlayToStay-PROMO.jpg
END:VEVENT
BEGIN:VEVENT
DTSTART;VALUE=DATE:20270818
DTEND;VALUE=DATE:20270819
DTSTAMP:20260419T101542
CREATED:20250521T204924Z
LAST-MODIFIED:20260129T190151Z
UID:10004806-1818547200-1818633599@www.winnavegas.com
SUMMARY:Play To Stay
DESCRIPTION:Earn 50 same-day points to receive a discounted hotel rate of $70 per night. \nPromotion is applicable for the same night as the day the points were earned. \nPromotion is subject to availability. Black-out dates apply. Please see Hotel or Guest Services for more information.
URL:https://www.winnavegas.com/event/play-to-stay/2027-08-18/
LOCATION:WinnaVegas Casino\, 1500 330th Street\, Sloan\, IA\, 51055\, United States
ATTACH;FMTTYPE=image/jpeg:https://www.winnavegas.com/wp-content/uploads/2025/05/PlayToStay-PROMO.jpg
END:VEVENT
BEGIN:VEVENT
DTSTART;VALUE=DATE:20270819
DTEND;VALUE=DATE:20270820
DTSTAMP:20260419T101542
CREATED:20250521T204924Z
LAST-MODIFIED:20260129T190151Z
UID:10004807-1818633600-1818719999@www.winnavegas.com
SUMMARY:Play To Stay
DESCRIPTION:Earn 50 same-day points to receive a discounted hotel rate of $70 per night. \nPromotion is applicable for the same night as the day the points were earned. \nPromotion is subject to availability. Black-out dates apply. Please see Hotel or Guest Services for more information.
URL:https://www.winnavegas.com/event/play-to-stay/2027-08-19/
LOCATION:WinnaVegas Casino\, 1500 330th Street\, Sloan\, IA\, 51055\, United States
ATTACH;FMTTYPE=image/jpeg:https://www.winnavegas.com/wp-content/uploads/2025/05/PlayToStay-PROMO.jpg
END:VEVENT
BEGIN:VEVENT
DTSTART;VALUE=DATE:20270822
DTEND;VALUE=DATE:20270823
DTSTAMP:20260419T101542
CREATED:20250521T204924Z
LAST-MODIFIED:20260129T190151Z
UID:10004808-1818892800-1818979199@www.winnavegas.com
SUMMARY:Play To Stay
DESCRIPTION:Earn 50 same-day points to receive a discounted hotel rate of $70 per night. \nPromotion is applicable for the same night as the day the points were earned. \nPromotion is subject to availability. Black-out dates apply. Please see Hotel or Guest Services for more information.
URL:https://www.winnavegas.com/event/play-to-stay/2027-08-22/
LOCATION:WinnaVegas Casino\, 1500 330th Street\, Sloan\, IA\, 51055\, United States
ATTACH;FMTTYPE=image/jpeg:https://www.winnavegas.com/wp-content/uploads/2025/05/PlayToStay-PROMO.jpg
END:VEVENT
BEGIN:VEVENT
DTSTART;VALUE=DATE:20270823
DTEND;VALUE=DATE:20270824
DTSTAMP:20260419T101542
CREATED:20250521T204924Z
LAST-MODIFIED:20260129T190151Z
UID:10004809-1818979200-1819065599@www.winnavegas.com
SUMMARY:Play To Stay
DESCRIPTION:Earn 50 same-day points to receive a discounted hotel rate of $70 per night. \nPromotion is applicable for the same night as the day the points were earned. \nPromotion is subject to availability. Black-out dates apply. Please see Hotel or Guest Services for more information.
URL:https://www.winnavegas.com/event/play-to-stay/2027-08-23/
LOCATION:WinnaVegas Casino\, 1500 330th Street\, Sloan\, IA\, 51055\, United States
ATTACH;FMTTYPE=image/jpeg:https://www.winnavegas.com/wp-content/uploads/2025/05/PlayToStay-PROMO.jpg
END:VEVENT
BEGIN:VEVENT
DTSTART;VALUE=DATE:20270824
DTEND;VALUE=DATE:20270825
DTSTAMP:20260419T101542
CREATED:20250521T204924Z
LAST-MODIFIED:20260129T190151Z
UID:10004810-1819065600-1819151999@www.winnavegas.com
SUMMARY:Play To Stay
DESCRIPTION:Earn 50 same-day points to receive a discounted hotel rate of $70 per night. \nPromotion is applicable for the same night as the day the points were earned. \nPromotion is subject to availability. Black-out dates apply. Please see Hotel or Guest Services for more information.
URL:https://www.winnavegas.com/event/play-to-stay/2027-08-24/
LOCATION:WinnaVegas Casino\, 1500 330th Street\, Sloan\, IA\, 51055\, United States
ATTACH;FMTTYPE=image/jpeg:https://www.winnavegas.com/wp-content/uploads/2025/05/PlayToStay-PROMO.jpg
END:VEVENT
BEGIN:VEVENT
DTSTART;VALUE=DATE:20270825
DTEND;VALUE=DATE:20270826
DTSTAMP:20260419T101542
CREATED:20250521T204924Z
LAST-MODIFIED:20260129T190151Z
UID:10004811-1819152000-1819238399@www.winnavegas.com
SUMMARY:Play To Stay
DESCRIPTION:Earn 50 same-day points to receive a discounted hotel rate of $70 per night. \nPromotion is applicable for the same night as the day the points were earned. \nPromotion is subject to availability. Black-out dates apply. Please see Hotel or Guest Services for more information.
URL:https://www.winnavegas.com/event/play-to-stay/2027-08-25/
LOCATION:WinnaVegas Casino\, 1500 330th Street\, Sloan\, IA\, 51055\, United States
ATTACH;FMTTYPE=image/jpeg:https://www.winnavegas.com/wp-content/uploads/2025/05/PlayToStay-PROMO.jpg
END:VEVENT
BEGIN:VEVENT
DTSTART;VALUE=DATE:20270826
DTEND;VALUE=DATE:20270827
DTSTAMP:20260419T101542
CREATED:20250521T204924Z
LAST-MODIFIED:20260129T190151Z
UID:10004812-1819238400-1819324799@www.winnavegas.com
SUMMARY:Play To Stay
DESCRIPTION:Earn 50 same-day points to receive a discounted hotel rate of $70 per night. \nPromotion is applicable for the same night as the day the points were earned. \nPromotion is subject to availability. Black-out dates apply. Please see Hotel or Guest Services for more information.
URL:https://www.winnavegas.com/event/play-to-stay/2027-08-26/
LOCATION:WinnaVegas Casino\, 1500 330th Street\, Sloan\, IA\, 51055\, United States
ATTACH;FMTTYPE=image/jpeg:https://www.winnavegas.com/wp-content/uploads/2025/05/PlayToStay-PROMO.jpg
END:VEVENT
BEGIN:VEVENT
DTSTART;VALUE=DATE:20270829
DTEND;VALUE=DATE:20270830
DTSTAMP:20260419T101542
CREATED:20250521T204924Z
LAST-MODIFIED:20260129T190151Z
UID:10004813-1819497600-1819583999@www.winnavegas.com
SUMMARY:Play To Stay
DESCRIPTION:Earn 50 same-day points to receive a discounted hotel rate of $70 per night. \nPromotion is applicable for the same night as the day the points were earned. \nPromotion is subject to availability. Black-out dates apply. Please see Hotel or Guest Services for more information.
URL:https://www.winnavegas.com/event/play-to-stay/2027-08-29/
LOCATION:WinnaVegas Casino\, 1500 330th Street\, Sloan\, IA\, 51055\, United States
ATTACH;FMTTYPE=image/jpeg:https://www.winnavegas.com/wp-content/uploads/2025/05/PlayToStay-PROMO.jpg
END:VEVENT
BEGIN:VEVENT
DTSTART;VALUE=DATE:20270830
DTEND;VALUE=DATE:20270831
DTSTAMP:20260419T101542
CREATED:20250521T204924Z
LAST-MODIFIED:20260129T190151Z
UID:10004814-1819584000-1819670399@www.winnavegas.com
SUMMARY:Play To Stay
DESCRIPTION:Earn 50 same-day points to receive a discounted hotel rate of $70 per night. \nPromotion is applicable for the same night as the day the points were earned. \nPromotion is subject to availability. Black-out dates apply. Please see Hotel or Guest Services for more information.
URL:https://www.winnavegas.com/event/play-to-stay/2027-08-30/
LOCATION:WinnaVegas Casino\, 1500 330th Street\, Sloan\, IA\, 51055\, United States
ATTACH;FMTTYPE=image/jpeg:https://www.winnavegas.com/wp-content/uploads/2025/05/PlayToStay-PROMO.jpg
END:VEVENT
BEGIN:VEVENT
DTSTART;VALUE=DATE:20270831
DTEND;VALUE=DATE:20270901
DTSTAMP:20260419T101542
CREATED:20250521T204924Z
LAST-MODIFIED:20260129T190151Z
UID:10004815-1819670400-1819756799@www.winnavegas.com
SUMMARY:Play To Stay
DESCRIPTION:Earn 50 same-day points to receive a discounted hotel rate of $70 per night. \nPromotion is applicable for the same night as the day the points were earned. \nPromotion is subject to availability. Black-out dates apply. Please see Hotel or Guest Services for more information.
URL:https://www.winnavegas.com/event/play-to-stay/2027-08-31/
LOCATION:WinnaVegas Casino\, 1500 330th Street\, Sloan\, IA\, 51055\, United States
ATTACH;FMTTYPE=image/jpeg:https://www.winnavegas.com/wp-content/uploads/2025/05/PlayToStay-PROMO.jpg
END:VEVENT
BEGIN:VEVENT
DTSTART;VALUE=DATE:20270901
DTEND;VALUE=DATE:20270902
DTSTAMP:20260419T101542
CREATED:20250521T204924Z
LAST-MODIFIED:20260129T190151Z
UID:10004816-1819756800-1819843199@www.winnavegas.com
SUMMARY:Play To Stay
DESCRIPTION:Earn 50 same-day points to receive a discounted hotel rate of $70 per night. \nPromotion is applicable for the same night as the day the points were earned. \nPromotion is subject to availability. Black-out dates apply. Please see Hotel or Guest Services for more information.
URL:https://www.winnavegas.com/event/play-to-stay/2027-09-01/
LOCATION:WinnaVegas Casino\, 1500 330th Street\, Sloan\, IA\, 51055\, United States
ATTACH;FMTTYPE=image/jpeg:https://www.winnavegas.com/wp-content/uploads/2025/05/PlayToStay-PROMO.jpg
END:VEVENT
BEGIN:VEVENT
DTSTART;VALUE=DATE:20270902
DTEND;VALUE=DATE:20270903
DTSTAMP:20260419T101542
CREATED:20250521T204924Z
LAST-MODIFIED:20260129T190151Z
UID:10004817-1819843200-1819929599@www.winnavegas.com
SUMMARY:Play To Stay
DESCRIPTION:Earn 50 same-day points to receive a discounted hotel rate of $70 per night. \nPromotion is applicable for the same night as the day the points were earned. \nPromotion is subject to availability. Black-out dates apply. Please see Hotel or Guest Services for more information.
URL:https://www.winnavegas.com/event/play-to-stay/2027-09-02/
LOCATION:WinnaVegas Casino\, 1500 330th Street\, Sloan\, IA\, 51055\, United States
ATTACH;FMTTYPE=image/jpeg:https://www.winnavegas.com/wp-content/uploads/2025/05/PlayToStay-PROMO.jpg
END:VEVENT
BEGIN:VEVENT
DTSTART;VALUE=DATE:20270905
DTEND;VALUE=DATE:20270906
DTSTAMP:20260419T101542
CREATED:20250521T204924Z
LAST-MODIFIED:20260129T190151Z
UID:10004818-1820102400-1820188799@www.winnavegas.com
SUMMARY:Play To Stay
DESCRIPTION:Earn 50 same-day points to receive a discounted hotel rate of $70 per night. \nPromotion is applicable for the same night as the day the points were earned. \nPromotion is subject to availability. Black-out dates apply. Please see Hotel or Guest Services for more information.
URL:https://www.winnavegas.com/event/play-to-stay/2027-09-05/
LOCATION:WinnaVegas Casino\, 1500 330th Street\, Sloan\, IA\, 51055\, United States
ATTACH;FMTTYPE=image/jpeg:https://www.winnavegas.com/wp-content/uploads/2025/05/PlayToStay-PROMO.jpg
END:VEVENT
BEGIN:VEVENT
DTSTART;VALUE=DATE:20270906
DTEND;VALUE=DATE:20270907
DTSTAMP:20260419T101542
CREATED:20250521T204924Z
LAST-MODIFIED:20260129T190151Z
UID:10004819-1820188800-1820275199@www.winnavegas.com
SUMMARY:Play To Stay
DESCRIPTION:Earn 50 same-day points to receive a discounted hotel rate of $70 per night. \nPromotion is applicable for the same night as the day the points were earned. \nPromotion is subject to availability. Black-out dates apply. Please see Hotel or Guest Services for more information.
URL:https://www.winnavegas.com/event/play-to-stay/2027-09-06/
LOCATION:WinnaVegas Casino\, 1500 330th Street\, Sloan\, IA\, 51055\, United States
ATTACH;FMTTYPE=image/jpeg:https://www.winnavegas.com/wp-content/uploads/2025/05/PlayToStay-PROMO.jpg
END:VEVENT
BEGIN:VEVENT
DTSTART;VALUE=DATE:20270907
DTEND;VALUE=DATE:20270908
DTSTAMP:20260419T101542
CREATED:20250521T204924Z
LAST-MODIFIED:20260129T190151Z
UID:10004820-1820275200-1820361599@www.winnavegas.com
SUMMARY:Play To Stay
DESCRIPTION:Earn 50 same-day points to receive a discounted hotel rate of $70 per night. \nPromotion is applicable for the same night as the day the points were earned. \nPromotion is subject to availability. Black-out dates apply. Please see Hotel or Guest Services for more information.
URL:https://www.winnavegas.com/event/play-to-stay/2027-09-07/
LOCATION:WinnaVegas Casino\, 1500 330th Street\, Sloan\, IA\, 51055\, United States
ATTACH;FMTTYPE=image/jpeg:https://www.winnavegas.com/wp-content/uploads/2025/05/PlayToStay-PROMO.jpg
END:VEVENT
BEGIN:VEVENT
DTSTART;VALUE=DATE:20270908
DTEND;VALUE=DATE:20270909
DTSTAMP:20260419T101542
CREATED:20250521T204924Z
LAST-MODIFIED:20260129T190151Z
UID:10004821-1820361600-1820447999@www.winnavegas.com
SUMMARY:Play To Stay
DESCRIPTION:Earn 50 same-day points to receive a discounted hotel rate of $70 per night. \nPromotion is applicable for the same night as the day the points were earned. \nPromotion is subject to availability. Black-out dates apply. Please see Hotel or Guest Services for more information.
URL:https://www.winnavegas.com/event/play-to-stay/2027-09-08/
LOCATION:WinnaVegas Casino\, 1500 330th Street\, Sloan\, IA\, 51055\, United States
ATTACH;FMTTYPE=image/jpeg:https://www.winnavegas.com/wp-content/uploads/2025/05/PlayToStay-PROMO.jpg
END:VEVENT
BEGIN:VEVENT
DTSTART;VALUE=DATE:20270909
DTEND;VALUE=DATE:20270910
DTSTAMP:20260419T101542
CREATED:20250521T204924Z
LAST-MODIFIED:20260129T190151Z
UID:10004822-1820448000-1820534399@www.winnavegas.com
SUMMARY:Play To Stay
DESCRIPTION:Earn 50 same-day points to receive a discounted hotel rate of $70 per night. \nPromotion is applicable for the same night as the day the points were earned. \nPromotion is subject to availability. Black-out dates apply. Please see Hotel or Guest Services for more information.
URL:https://www.winnavegas.com/event/play-to-stay/2027-09-09/
LOCATION:WinnaVegas Casino\, 1500 330th Street\, Sloan\, IA\, 51055\, United States
ATTACH;FMTTYPE=image/jpeg:https://www.winnavegas.com/wp-content/uploads/2025/05/PlayToStay-PROMO.jpg
END:VEVENT
END:VCALENDAR